BEGIN:VCALENDAR
VERSION:2.0
PRODID:-//ChamberMaster//Event Calendar 2.0//EN
METHOD:PUBLISH
X-PUBLISHED-TTL:P3D
REFRESH-INTERVAL:P3D
CALSCALE:GREGORIAN
BEGIN:VEVENT
DTSTART:20151026T033000Z
DTEND:20151026T050000Z
X-MICROSOFT-CDO-ALLDAYEVENT:FALSE
SUMMARY:Swing Noodle\, Gypsy Swing
DESCRIPTION:Bringing Gypsy Swing and some Jazz standards\, welcome Swing Noodle to the stage at Hill House Inn on Saturday November 21. Come on out for some toe-tapping dance music with Erick Kolberg on guitar\; Steve Paul\, trumpet\; Pete Gealey on bass\; Tom Rickard on drums\; Larry Kellogg\, mandolin. \n\nDoors open at 6PM with full bar and casual dining. Music at 7:30PM. $10 at the door. 707-937-0554
X-ALT-DESC;FMTTYPE=text/html:<p><span style="font-size:small\;font-family:arial\, helvetica\, sans-serif\;">Bringing Gypsy Swing and some Jazz standards\, welcome Swing Noodle to the stage at Hill House Inn on Saturday November 21. Come on out for some toe-tapping dance music with Erick Kolberg on guitar\; Steve Paul\, trumpet\; Pete Gealey on bass\; Tom Rickard on drums\; Larry Kellogg\, mandolin. </span><br /><br /><span style="font-size:small\;font-family:arial\, helvetica\, sans-serif\;">Doors open at 6PM with full bar and casual dining. Music at 7:30PM. $10 at the door. 707-937-0554</span><br /><br /></p>
LOCATION:Hill House of Mendocino
UID:e.2883.771
SEQUENCE:3
DTSTAMP:20260422T014805Z
URL:https://mendocinocoast.com/events/details/swing-noodle-gypsy-swing-10-25-2015-771
END:VEVENT

END:VCALENDAR
