BEGIN:VCALENDAR
VERSION:2.0
PRODID:-//ChamberMaster//Event Calendar 2.0//EN
METHOD:PUBLISH
X-PUBLISHED-TTL:P3D
REFRESH-INTERVAL:P3D
CALSCALE:GREGORIAN
BEGIN:VEVENT
DTSTART:20140223T040400Z
DTEND:20140223T070000Z
X-MICROSOFT-CDO-ALLDAYEVENT:FALSE
SUMMARY:Swing Jazz at Headlands Coffeehouse
DESCRIPTION:Queen Jane & Her Sidekicks play Swing Jazz Standards.Â  Don't mis the amazing Jane (piano)\, Pete (bass)\, Tom (drums) and their guest musicians.Â  7-10 PM.Â  For a sample\, visit: http://www.youtube.com/watch?v=7UmrVNW1Rvs&feature=relmfu
X-ALT-DESC;FMTTYPE=text/html:<p>Queen Jane &amp\; Her Sidekicks play Swing Jazz Standards.Â  Don't mis the amazing Jane (piano)\, Pete (bass)\, Tom (drums) and their guest musicians.Â  7-10 PM.Â  For a sample\, visit: http://www.youtube.com/watch?v=7UmrVNW1Rvs&amp\;feature=relmfu</p>
LOCATION:Headlands Coffeehouse Fort Bragg
UID:e.2883.151
SEQUENCE:3
DTSTAMP:20260423T131800Z
URL:https://mendocinocoast.com/events/details/swing-jazz-at-headlands-coffeehouse-02-22-2014-151
END:VEVENT

END:VCALENDAR
