BEGIN:VCALENDAR
VERSION:2.0
PRODID:-//ChamberMaster//Event Calendar 2.0//EN
METHOD:PUBLISH
X-PUBLISHED-TTL:P3D
REFRESH-INTERVAL:P3D
CALSCALE:GREGORIAN
BEGIN:VEVENT
DTSTART:20160216T173000Z
DTEND:20160216T093000Z
X-MICROSOFT-CDO-ALLDAYEVENT:FALSE
SUMMARY:Sustainable Home Vegetable Gardening
DESCRIPTION:EXTENDED WORKSHOP SERIESOrientation: Tuesday\, March 15 or 22: 5:30â€“6:30pm â€¢ Gardens Meeting RoomClass: Every other Saturday March 26â€“June 18 \n(Classes: 9:30amâ€“1:30pm\; Workshops: 9:30amâ€“3:30pm. Details will be provided to course participants.)Take your vegetable garden to the next level!\nThis course offers four months of hands-on\, brains-on training with MCBG Gardener Jaime Jensen teaching the essential skills to develop a strong vegetable garden for years to come. Learn about soil preparation\, garden planning\, propagation\, and harvesting techniques. Course workshops will demonstrate how to install drip irrigation\, how to build a raised garden box\, and more. Each class will have a reading and lecture component as well as hands-on trainingâ€¦ be prepared to get dirty!Course fee is $260 and only $200 for MCBG Members.Â Not Â member?Â Join today!To learn more\, sign up for the course orientation on Tuesday\, March 15 or 22 at 5:30pm by phoning The Garden Store\, 964-4352 ext. 16.Reviews from the â€œClass of 2015â€\n~ Since I will be starting a garden in Fort Bragg\, this has been amazing and wonderfully informative.\n~ Revolutionized my home gardening experience!\n~ Helped me to improve my soil and identify plants\, weeds\, and companion plants.\n~ Facilities and hands-on were excellent!\n~ Made me more aware of my gardenâ€™s weak spots.\n~ I get soil and watering better now and I am looking forward to making a raised garden bed!Â Looking for a way to keep track of all of the wonderful workshops and events at Mendocino Coast Botanical Gardens?Subscribe to the MCBG Events Feed on Facebook-www.facebook.com/mendocinocoastbotanicalgardens/events... andÂ sign up for our "Bloom Blast"\, it is chock-full of info about the Gardens\, our beautiful blooms\, and upcoming events!
X-ALT-DESC;FMTTYPE=text/html:<p><span style="font-size:medium\;"><strong><a href="http://www.gardenbythesea.org/calendar/sustainable-vegetable-gardening/" target="_blank">EXTENDED WORKSHOP SERIES</a></strong></span></p><p><span style="font-size:medium\;"><strong>Orientation:</strong> Tuesday\, March 15 or 22: 5:30â€“6:30pm â€¢ Gardens Meeting Room</span></p><p><span style="font-size:medium\;"><strong>Class:</strong> Every other Saturday March 26â€“June 18 </span><br /><span style="font-size:medium\;">(Classes: 9:30amâ€“1:30pm\; Workshops: 9:30amâ€“3:30pm. Details will be provided to course participants.)</span></p><p><span style="font-size:medium\;"><em><strong>Take your vegetable garden to the next level!</strong></em></span><br /><span style="font-size:medium\;">This course offers four months of hands-on\, brains-on training with MCBG Gardener Jaime Jensen teaching the essential skills to develop a strong vegetable garden for years to come. Learn about soil preparation\, garden planning\, propagation\, and harvesting techniques. Course workshops will demonstrate how to install drip irrigation\, how to build a raised garden box\, and more. Each class will have a reading and lecture component as well as hands-on trainingâ€¦ be prepared to get dirty!</span></p><p><span style="font-size:medium\;">Course fee is $260 and only $200 for MCBG Members.Â <strong>Not Â member?Â <a href="http://www.gardenbythesea.org/about-the-gardens/membership/" target="_blank">Join today!</a></strong></span></p><p><span style="font-size:medium\;">To learn more\, sign up for the course orientation on Tuesday\, March 15 or 22 at 5:30pm by phoning The Garden Store\, 964-4352 ext. 16.</span></p><p><span style="font-size:medium\;"><strong>Reviews from the â€œClass of 2015â€</strong></span><br /><span style="font-size:medium\;"><em>~ Since I will be starting a garden in Fort Bragg\, this has been amazing and wonderfully informative.</em></span><br /><span style="font-size:medium\;"><em>~ Revolutionized my home gardening experience!</em></span><br /><span style="font-size:medium\;"><em>~ Helped me to improve my soil and identify plants\, weeds\, and companion plants.</em></span><br /><span style="font-size:medium\;"><em>~ Facilities and hands-on were excellent!</em></span><br /><span style="font-size:medium\;"><em>~ Made me more aware of my gardenâ€™s weak spots.</em></span><br /><span style="font-size:medium\;"><em>~ I get soil and watering better now and I am looking forward to making a raised garden bed!</em></span></p><p>Â </p><hr /><h4><span style="font-size:medium\;"><em>Looking for a way to keep track of all of the wonderful workshops and events at Mendocino Coast Botanical Gardens?</em></span></h4><p><span style="font-size:medium\;">Subscribe to the MCBG Events Feed on Facebook-<a href="https://www.facebook.com/mendocinocoastbotanicalgardens/events?key=events" target="_blank">www.facebook.com/mendocinocoastbotanicalgardens/events</a>... andÂ <a href="http://gardenbythesea.us6.list-manage.com/subscribe?u=47f057ea8c09e1519b2e52094&amp\;id=e4d628c753" target="_blank">sign up for our "Bloom Blast"</a>\, it is chock-full of info about the Gardens\, our beautiful blooms\, and upcoming events!</span></p>
LOCATION:Mendocino Coast Botanical Gardens Fort Bragg
UID:e.2883.857
SEQUENCE:3
DTSTAMP:20260421T192253Z
URL:https://mendocinocoast.com/events/details/sustainable-home-vegetable-gardening-02-16-2016-857
END:VEVENT

END:VCALENDAR
