BEGIN:VCALENDAR
VERSION:2.0
PRODID:-//ChamberMaster//Event Calendar 2.0//EN
METHOD:PUBLISH
X-PUBLISHED-TTL:P3D
REFRESH-INTERVAL:P3D
CALSCALE:GREGORIAN
BEGIN:VEVENT
DTSTART:20150921T190000Z
DTEND:20150921T090100Z
X-MICROSOFT-CDO-ALLDAYEVENT:FALSE
SUMMARY:Susan Bridge-Mount Jewelry Demonstration
DESCRIPTION:SUSAN BRIDGE-MOUNT DEMONSTRATION AT PARTNERSÂ As part of Mendocino County Celebrates American Craft Week\, Partners Gallery is holding a demonstration by Susan Bridge-Mount on her unique jewelry work with felt and rubber at the gallery on Saturday October 3 from 12 noon to 2pm.Â Susan Bridge-Mount creates unique and individualistic pieces of jewelry utilizing Merino wool felt\, leather and rubber.Â  She also designs and creates necklaces and bracelets with vintage mahjong tiles\, bamboo and antique beads.Â  Susan seeks out found objects to incorporate into her jewelry pieces. Her work has been described as "edgy" and "not for the faint at heart."Â  She is currently creating new designs with silk moth cocoons that she hand dyes and strings into necklaces and earrings.Â Partners Gallery is located at 335N. Franklin Street in Fort Bragg and is open Wednesday through Monday 10 am to 5 pm and Sundays 10 am to 4 pm.707 962-0233Â  http://www.partnersgallery.com Â
X-ALT-DESC;FMTTYPE=text/html:<p>SUSAN BRIDGE-MOUNT DEMONSTRATION AT PARTNERS</p><p>Â </p><p>As part of Mendocino County Celebrates American Craft Week\, Partners Gallery is holding a demonstration by Susan Bridge-Mount on her unique jewelry work with felt and rubber at the gallery on Saturday October 3 from 12 noon to 2pm.</p><p>Â </p><p>Susan Bridge-Mount creates unique and individualistic pieces of jewelry utilizing Merino wool felt\, leather and rubber.Â  She also designs and creates necklaces and bracelets with vintage mahjong tiles\, bamboo and antique beads.Â  Susan seeks out found objects to incorporate into her jewelry pieces. Her work has been described as "edgy" and "not for the faint at heart."Â  She is currently creating new designs with silk moth cocoons that she hand dyes and strings into necklaces and earrings.</p><p>Â </p><p>Partners Gallery is located at 335N. Franklin Street in Fort Bragg and is open Wednesday through Monday 10 am to 5 pm and Sundays 10 am to 4 pm.</p><p>707 962-0233Â  <a href="http://www.partnersgallery.com">http://www.partnersgallery.com</a>&gt\;</p><p>Â </p>
LOCATION:Partners Gallery Fort Bragg
UID:e.2883.735
SEQUENCE:3
DTSTAMP:20260422T050410Z
URL:https://mendocinocoast.com/events/details/susan-bridge-mount-jewelry-demonstration-09-21-2015-735
END:VEVENT

END:VCALENDAR
