BEGIN:VCALENDAR
VERSION:2.0
PRODID:-//ChamberMaster//Event Calendar 2.0//EN
METHOD:PUBLISH
X-PUBLISHED-TTL:P3D
REFRESH-INTERVAL:P3D
CALSCALE:GREGORIAN
BEGIN:VEVENT
DTSTART:20150110T000000Z
DTEND:20150110T030000Z
X-MICROSOFT-CDO-ALLDAYEVENT:FALSE
SUMMARY:Super Bowl Party at Heritage House
DESCRIPTION:Join us for Super Bowl XLIX Â on Sunday\, February 1st\, 2015\, at Game Time.Adults are $30\, Kids 12 & Under $12All You Can Eat Buffet\, Cocktail & Beer Specials\, Multiple Viewing Screens\, Comfortable Seating at the 5200 Restaurant & Lounge of the Heritage House Resort & Spa. 5200 North Highway One\, Little River.Call 707-202-9000 or visit www.heritagehouseresort.com for more information.
X-ALT-DESC;FMTTYPE=text/html:<p>Join us for Super Bowl XLIX Â on Sunday\, February 1st\, 2015\, at Game Time.</p><p>Adults are $30\, Kids 12 &amp\; Under $12</p><p>All You Can Eat Buffet\, Cocktail &amp\; Beer Specials\, Multiple Viewing Screens\, Comfortable Seating at the 5200 Restaurant &amp\; Lounge of the Heritage House Resort &amp\; Spa. 5200 North Highway One\, Little River.</p><p>Call 707-202-9000 or visit <a href="http://www.heritagehouseresort.com" target="_blank">www.heritagehouseresort.com</a> for more information.</p>
LOCATION:Heritage House Resort/5200 Restaurant & Lounge Little River
UID:e.2883.430
SEQUENCE:3
DTSTAMP:20260422T163929Z
URL:https://mendocinocoast.com/events/details/super-bowl-party-at-heritage-house-01-09-2015-430
END:VEVENT

END:VCALENDAR
