BEGIN:VCALENDAR
VERSION:2.0
PRODID:-//ChamberMaster//Event Calendar 2.0//EN
METHOD:PUBLISH
X-PUBLISHED-TTL:P3D
REFRESH-INTERVAL:P3D
CALSCALE:GREGORIAN
BEGIN:VEVENT
DTSTART:20140827T210100Z
DTEND:20140828T000000Z
X-MICROSOFT-CDO-ALLDAYEVENT:FALSE
SUMMARY:Sunday Afternoon Jazz Jam!
DESCRIPTION:Headlands Coffeehouse presents our Sunday Afternoon Jazz Jam\, hosted by Richard Cooper.Â  Relax as Richard (& Friends) play Cool Jazz and the music of Brazil.Â  It's a great way to spend a Sunday afternoon...and perhaps have an early dinner before you enjoy the sunset!Â  (No Cover Charge)
X-ALT-DESC;FMTTYPE=text/html:<p>Headlands Coffeehouse presents our Sunday Afternoon Jazz Jam\, hosted by Richard Cooper.Â  Relax as Richard (&amp\; Friends) play Cool Jazz and the music of Brazil.Â  It's a great way to spend a Sunday afternoon...and perhaps have an early dinner before you enjoy the sunset!Â  (No Cover Charge)</p>
LOCATION:Headlands Coffeehouse Fort Bragg
UID:e.2883.319
SEQUENCE:3
DTSTAMP:20260423T010915Z
URL:https://mendocinocoast.com/events/details/sunday-afternoon-jazz-jam-08-27-2014-319
END:VEVENT

END:VCALENDAR
