BEGIN:VCALENDAR
VERSION:2.0
PRODID:-//ChamberMaster//Event Calendar 2.0//EN
METHOD:PUBLISH
X-PUBLISHED-TTL:P3D
REFRESH-INTERVAL:P3D
CALSCALE:GREGORIAN
BEGIN:VEVENT
DTSTART:20160317T210100Z
DTEND:20160317T234500Z
X-MICROSOFT-CDO-ALLDAYEVENT:FALSE
SUMMARY:Sunday Afternoon Jazz Jam!
DESCRIPTION:Enjoy Headlands Coffeehouse's Sunday Jazz Jam - hosted this week by the talented David Brown. David's jazz is influenced by his time in New Orleans and by his travels around the world.Â  To listen to his various musical styles\, visit: http://www.davidmbrownmusic.com/Â Â  Remember:Â  Live Music Seven Days a Week... and never a cover charge!Headlands Coffeehouse\, 120 E. Laurel Street\, Fort BraggÂ  707-964-1987Â ï»¿
X-ALT-DESC;FMTTYPE=text/html:<p>Enjoy Headlands Coffeehouse's Sunday Jazz Jam - hosted this week by the talented David Brown. David's jazz is influenced by his time in New Orleans and by his travels around the world.Â  To listen to his various musical styles\, visit: http://www.davidmbrownmusic.com/Â Â  Remember:Â  Live Music Seven Days a Week... and never a cover charge!</p><p>Headlands Coffeehouse\, 120 E. Laurel Street\, Fort BraggÂ  707-964-1987</p><p>Â </p><p>ï»¿</p>
LOCATION:Headlands Coffeehouse Fort Bragg
UID:e.2883.881
SEQUENCE:3
DTSTAMP:20260421T173316Z
URL:https://mendocinocoast.com/events/details/sunday-afternoon-jazz-jam-03-17-2016-881
END:VEVENT

END:VCALENDAR
