BEGIN:VCALENDAR
VERSION:2.0
PRODID:-//ChamberMaster//Event Calendar 2.0//EN
METHOD:PUBLISH
X-PUBLISHED-TTL:P3D
REFRESH-INTERVAL:P3D
CALSCALE:GREGORIAN
BEGIN:VEVENT
DTSTART:20160707T030000Z
DTEND:20160707T080000Z
X-MICROSOFT-CDO-ALLDAYEVENT:FALSE
SUMMARY:Summer Dance Party
DESCRIPTION:SUMMER DANCE PARTY!!SATURDAY\, JULY 23\, 2016\n with DJ SISTER YASMIN   ANGELINA'S GRILL AND BAR\, 400 South Main Street\, Ft. Bragg\, CA 95437\n 8:00 PM - 1:00 AM\n 21 AND OVER\; NO COVER CHARGE\; TIPS APPRECIATED\n INFORMATION: 707-964-1700\; 884-4703\nDance to the sizzling tropical rhythms of Cumbia\, Salsa\, Merengue\, Banda and Reggae. Shake your Groove Thang to BLUES\, Funk\, Soul\, Hip Hop\, R&B\, Disco\, Oldies\, and so much more!\n See you on the Dance Floor!\n ONE NATION UNDER A GROOVE!!
X-ALT-DESC;FMTTYPE=text/html:<p><div><strong><span style="text-decoration: underline\;">SUMMER DANCE PARTY!!</span></strong></div><div></div><div><strong>SATURDAY\, JULY 23\, 2016</strong></div><div><strong><br /></strong></div><div><strong> with DJ SISTER YASMIN</strong></div><div><strong> </strong></div><div><strong> </strong><strong> ANGELINA'S GRILL AND BAR\, 400 South Main Street\, Ft. Bragg\, CA 95437</strong></div><div><strong><br /></strong></div><div><strong> 8:00 PM - 1:00 AM</strong></div><div><strong><br /></strong></div><div><strong> 21 AND OVER\; NO COVER CHARGE\; TIPS APPRECIATED</strong></div><div><strong><br /></strong></div><div><strong> INFORMATION: 707-964-1700\; 884-4703</strong></div><div><strong><br /></strong></div><div><strong>Dance to the sizzling tropical rhythms of Cumbia\, Salsa\, Merengue\, Banda and Reggae. </strong></div><div><strong>Shake your </strong><strong>Groove Thang to BLUES\, Funk\, Soul\, Hip Hop\, R&amp\;B\, Disco\, Oldies\, and so much more!</strong></div><div><strong><br /></strong></div><div><strong> See you on the Dance Floor!</strong></div><div><strong><br /></strong></div><div><strong><em> ONE NATION UNDER A GROOVE!!</em></strong></div></p>
LOCATION:Angelina's Bar and Grill Fort Bragg
UID:e.2883.970
SEQUENCE:3
DTSTAMP:20260419T141821Z
URL:https://mendocinocoast.com/events/details/summer-dance-party-07-06-2016-970
END:VEVENT

END:VCALENDAR
