BEGIN:VCALENDAR
VERSION:2.0
PRODID:-//ChamberMaster//Event Calendar 2.0//EN
METHOD:PUBLISH
X-PUBLISHED-TTL:P3D
REFRESH-INTERVAL:P3D
CALSCALE:GREGORIAN
BEGIN:VEVENT
DTSTART:20150220T000000Z
DTEND:20150220T020000Z
X-MICROSOFT-CDO-ALLDAYEVENT:FALSE
SUMMARY:Summer Chamber Music Weekend Roy Bogas and Friends
DESCRIPTION:Saturday\, July 11\, 4:00 p.m.\nSunday\, Â  July 12\, 4:00 p.m.\nGualala Arts Chamber Music Series presents:\n13th Annual Summer Chamber Music Weekend\n$30 advance for each concert\; $5 more day of performance.\n$50 advance for BOTH concerts\, available at the Arts Center only.\nYoung people ages 7 through 17 admitted free with adult.
X-ALT-DESC;FMTTYPE=text/html:<p><strong>Saturday\, July 11\, 4:00 p.m.</strong><br /><strong>Sunday\, Â  July 12\, 4:00 p.m.</strong><br />Gualala Arts Chamber Music Series presents:<br /><span><span>13th Annual Summer Chamber Music Weekend</span></span><br />$30 advance for each concert\; $5 more day of performance.<br />$50 advance for BOTH concerts\, available at the Arts Center only.<br />Young people ages 7 through 17 admitted free with adult.</p>
LOCATION:Gualala Art Center
UID:e.2883.529
SEQUENCE:3
DTSTAMP:20260422T151259Z
URL:https://mendocinocoast.com/events/details/summer-chamber-music-weekend-roy-bogas-and-friends-02-19-2015-529
END:VEVENT

END:VCALENDAR
