BEGIN:VCALENDAR
VERSION:2.0
PRODID:-//ChamberMaster//Event Calendar 2.0//EN
METHOD:PUBLISH
X-PUBLISHED-TTL:P3D
REFRESH-INTERVAL:P3D
CALSCALE:GREGORIAN
BEGIN:VEVENT
DTSTART;VALUE=DATE:20150615
DTEND;VALUE=DATE:20150616
TRANSP:TRANSPARENT
X-MICROSOFT-CDO-ALLDAYEVENT:TRUE
SUMMARY:Story Time at MacKerricher State Park
DESCRIPTION:Join park staff\, rangers\, and storytellers for story time at Laguna Point\, MacKerricher State Park
X-ALT-DESC;FMTTYPE=text/html:<p>Join park staff\, rangers\, and storytellers for story time at Laguna Point\, MacKerricher State Park</p>
LOCATION:MacKerricher State Park Cleone\, CA
UID:e.2883.647
SEQUENCE:3
DTSTAMP:20260422T082350Z
URL:https://mendocinocoast.com/events/details/story-time-at-mackerricher-state-park-06-15-2015-647
END:VEVENT

END:VCALENDAR
