BEGIN:VCALENDAR
VERSION:2.0
PRODID:-//ChamberMaster//Event Calendar 2.0//EN
METHOD:PUBLISH
X-PUBLISHED-TTL:P3D
REFRESH-INTERVAL:P3D
CALSCALE:GREGORIAN
BEGIN:VEVENT
DTSTART:20150414T170000Z
DTEND:20150414T190000Z
X-MICROSOFT-CDO-ALLDAYEVENT:FALSE
SUMMARY:Stewardship at Big River with Mendocino Land Trust and CatchACanoe
DESCRIPTION:Join your friends at the Mendocino Land Trust and CatchACanoe for a morning of stewardship at Big River by helping us clean up the beach and pull invasive plants. All ages are welcome. Water and tools will be provided. 10 am-12 pm. Afterwards\, spend some time admiring the scenery by signing up for a FREE ride on Big River aboard the Solar Wind\, courtesy of CatchACanoe (reservations required). In order to guarantee a spot please RSVP to Rick Hemmings at 707.937.0273 or email Canoe@mcn.org. Big River State Park\, 1000 Brewery Gulch Road\, Mendocino. 707.962.0470 http://mendocinolandtrust.org
X-ALT-DESC;FMTTYPE=text/html:<p>Join your friends at the Mendocino Land Trust and CatchACanoe for a morning of stewardship at Big River by helping us clean up the beach and pull invasive plants. All ages are welcome. Water and tools will be provided. 10 am-12 pm. Afterwards\, spend some time admiring the scenery by signing up for a FREE ride on Big River aboard the Solar Wind\, courtesy of CatchACanoe (reservations required). In order to guarantee a spot please RSVP to Rick Hemmings at 707.937.0273 or email <a href="mailto:Canoe@mcn.org" target="_blank">Canoe@mcn.org</a>. Big River State Park\, 1000 Brewery Gulch Road\, Mendocino. 707.962.0470 <a href="http://mendocinolandtrust.org" target="_blank">http://mendocinolandtrust.org</a></p>
LOCATION:Big River State Park\, 1000 Brewery Gulch Road Mendocino
UID:e.2883.602
SEQUENCE:3
DTSTAMP:20260422T115429Z
URL:https://mendocinocoast.com/events/details/stewardship-at-big-river-with-mendocino-land-trust-and-catchacanoe-04-14-2015-602
END:VEVENT

END:VCALENDAR
