BEGIN:VCALENDAR
VERSION:2.0
PRODID:-//ChamberMaster//Event Calendar 2.0//EN
METHOD:PUBLISH
X-PUBLISHED-TTL:P3D
REFRESH-INTERVAL:P3D
CALSCALE:GREGORIAN
BEGIN:VEVENT
DTSTART:20151215T043000Z
DTEND:20151215T070000Z
X-MICROSOFT-CDO-ALLDAYEVENT:FALSE
SUMMARY:Steve Lucky and the Rhumba Bums
DESCRIPTION:STEVE LUCKY & the RHUMBA BUMS\, a highly entertaining band from the San Francisco Bay area\, featuring Steve Luckyâ€™s soulful piano and vocals\, and the vivacious Miss Carmen Getitâ€™s vocals and acclaimed guitarist will be at the Hill House in Mendocino on Saturday\, January 30. The addition of some veteran musicians and young jazz talents on drums\, upright bass and horn section results in a powerful sound that appeals to fans both young and old. These musicians have worked with everyone from jazz greats like the late Joe Williams and Dizzy Gillespie\, to pop stars like Aretha Franklin and the Temptations to blues legend & Grammy-award winner Johnny Clyde Copeland. The band loves to entertain and has the â€œrock-solid musicianshipâ€ (Alternative Press) to drive folks to the dance floor.\n\nDoors open at 6PM for casual dining and full bar\, Music at 7:30PM. $25 for reserved table seating\, $20 general admission. Tickets will be available at Mendocino Hotel and Hill House in Mendocino and online at BrownPaperTickets.com. 707-937-1732 for more info.\n\nâ€œInstant crowd favoritesâ€ \nTom Mazzolini\, producer\, San Francisco Blues Festival \n\n"They are one of the hottest dance bands on the planet with personality galore." \nSunshine Taylor\, Mendocino Coast swing dancer
X-ALT-DESC;FMTTYPE=text/html:<p><span style="font-size:medium\;">STEVE LUCKY &amp\; the RHUMBA BUMS\, a highly entertaining band from the San Francisco Bay area\, featuring Steve Luckyâ€™s soulful piano and vocals\, and the vivacious Miss Carmen Getitâ€™s vocals and acclaimed guitarist will be at the Hill House in Mendocino on Saturday\, January 30. The addition of some veteran musicians and young jazz talents on drums\, upright bass and horn section results in a powerful sound that appeals to fans both young and old. These musicians have worked with everyone from jazz greats like the late Joe Williams and Dizzy Gillespie\, to pop stars like Aretha Franklin and the Temptations to blues legend &amp\; Grammy-award winner Johnny Clyde Copeland. The band loves to entertain and has the â€œrock-solid musicianshipâ€ (Alternative Press) to drive folks to the dance floor.</span><br /><br /><span style="font-size:medium\;">Doors open at 6PM for casual dining and full bar\, Music at 7:30PM. $25 for reserved table seating\, $20 general admission. Tickets will be available at Mendocino Hotel and Hill House in Mendocino and online at BrownPaperTickets.com. 707-937-1732 for more info.</span><br /><br /><span style="font-size:medium\;">â€œInstant crowd favoritesâ€ </span><br /><span style="font-size:medium\;">Tom Mazzolini\, producer\, San Francisco Blues Festival </span><br /><br /><span style="font-size:medium\;">"They are one of the hottest dance bands on the planet with personality galore." </span><br /><span style="font-size:medium\;">Sunshine Taylor\, Mendocino Coast swing dancer</span></p>
LOCATION:Hill House of Mendocino
UID:e.2883.813
SEQUENCE:3
DTSTAMP:20260422T003121Z
URL:https://mendocinocoast.com/events/details/steve-lucky-and-the-rhumba-bums-12-14-2015-813
END:VEVENT

END:VCALENDAR
