BEGIN:VCALENDAR
VERSION:2.0
PRODID:-//ChamberMaster//Event Calendar 2.0//EN
METHOD:PUBLISH
X-PUBLISHED-TTL:P3D
REFRESH-INTERVAL:P3D
CALSCALE:GREGORIAN
BEGIN:VEVENT
DTSTART;VALUE=DATE:20160309
DTEND;VALUE=DATE:20160310
TRANSP:TRANSPARENT
X-MICROSOFT-CDO-ALLDAYEVENT:TRUE
SUMMARY:St Patricks Day
DESCRIPTION:The Westport Hotel and old Abalone Pub will reopen for Dinners on St Patricks Day. Our new Chef Brent Anderson will be putting his goumet twist on traditional ST Patricks Day Fare Reservation Recommended 964-3688
X-ALT-DESC;FMTTYPE=text/html:<p>The Westport Hotel and old Abalone Pub will reopen for Dinners on St Patricks Day. Our new Chef Brent Anderson will be putting his goumet twist on traditional ST Patricks Day Fare Reservation Recommended 964-3688</p>
LOCATION:The Westport Hotel & Old Abalone Pub
UID:e.2883.871
SEQUENCE:3
DTSTAMP:20260421T173011Z
URL:https://mendocinocoast.com/events/details/st-patricks-day-03-09-2016-871
END:VEVENT

END:VCALENDAR
