BEGIN:VCALENDAR
VERSION:2.0
PRODID:-//ChamberMaster//Event Calendar 2.0//EN
METHOD:PUBLISH
X-PUBLISHED-TTL:P3D
REFRESH-INTERVAL:P3D
CALSCALE:GREGORIAN
BEGIN:VEVENT
DTSTART;VALUE=DATE:20140305
DTEND;VALUE=DATE:20140306
TRANSP:TRANSPARENT
X-MICROSOFT-CDO-ALLDAYEVENT:TRUE
SUMMARY:ST PATRICK'S DAY DINNER
DESCRIPTION:ST PATRICK'S DAY DINNER for Westport VFD\, Live Celtic Band till 9 pm. At the Westport Hotel. Dinner served from 4pm to 8pm. Corned beef and cabbage w/ salad & soda bread & desserts (vegetarian meals available) $25 per plate. Full Bar with Traditional Irish Drinks\, Beer and Wine.
X-ALT-DESC;FMTTYPE=text/html:<p>ST PATRICK'S DAY DINNER for Westport VFD\, Live Celtic Band till 9 pm. At the Westport Hotel. Dinner served from 4pm to 8pm. Corned beef and cabbage w/ salad &amp\; soda bread &amp\; desserts (vegetarian meals available) $25 per plate. Full Bar with Traditional Irish Drinks\, Beer and Wine.</p>
LOCATION:Westport Hotel
UID:e.2883.167
SEQUENCE:3
DTSTAMP:20260423T113415Z
URL:https://mendocinocoast.com/events/details/st-patrick-s-day-dinner-03-05-2014-167
END:VEVENT

END:VCALENDAR
