BEGIN:VCALENDAR
VERSION:2.0
PRODID:-//ChamberMaster//Event Calendar 2.0//EN
METHOD:PUBLISH
X-PUBLISHED-TTL:P3D
REFRESH-INTERVAL:P3D
CALSCALE:GREGORIAN
BEGIN:VEVENT
DTSTART;VALUE=DATE:20140111
DTEND;VALUE=DATE:20140112
TRANSP:TRANSPARENT
X-MICROSOFT-CDO-ALLDAYEVENT:TRUE
SUMMARY:St Anthonys-Knights of Columbus Pancake Breakfast
DESCRIPTION:For the best breakfast value on the Mendocino Coast\, come to our breakfast on the Second Sunday of each month between 8am to noon. You will enjoy eggs\, any way you want\, pancakes\, french toast\, hash browns\, sausage\, orange juice and Thanksgiving coffee. ALL YOU CAN EAT! $7.00 and $3.50 for kids. You cant go away hungry!
X-ALT-DESC;FMTTYPE=text/html:For the best breakfast value on the Mendocino Coast\, come to our breakfast on the Second Sunday of each month between 8am to noon. You will enjoy eggs\, any way you want\, pancakes\, french toast\, hash browns\, sausage\, orange juice and Thanksgiving coffee. ALL YOU CAN EAT! $7.00 and $3.50 for kids. You cant go away hungry! 
LOCATION:St Anthonys Hall top of Lansing St\, Mendocino
UID:e.2883.81
SEQUENCE:3
DTSTAMP:20260423T145910Z
URL:https://mendocinocoast.com/events/details/st-anthonys-knights-of-columbus-pancake-breakfast-01-11-2014-81
END:VEVENT

END:VCALENDAR
