BEGIN:VCALENDAR
VERSION:2.0
PRODID:-//ChamberMaster//Event Calendar 2.0//EN
METHOD:PUBLISH
X-PUBLISHED-TTL:P3D
REFRESH-INTERVAL:P3D
CALSCALE:GREGORIAN
BEGIN:VEVENT
DTSTART:20140128T190100Z
DTEND:20140128T230100Z
X-MICROSOFT-CDO-ALLDAYEVENT:FALSE
SUMMARY:St Anthony's-Knights of Columbus Pancake Breakfast
DESCRIPTION:"For the best\n breakfast value on the Mendocino Coast\, come to our breakfast on the Second\n Sunday of each month between 8am to noon. You will enjoy eggs\, any way you\n want\, pancakes\, french toast\, hash browns\, sausage\, orange juice and\n Thanksgiving coffee. ALL YOU CAN EAT! $7.00 and $3.50 for kids. You can't go\n away hungry! "\n\nÂ \n\n707-937-2604\n\nÂ \n\nhttp://www.stanthonysofmendocino.com/
X-ALT-DESC;FMTTYPE=text/html:<p><br /><br /></p><div style="direction: ltr\;"><br /><br /><br /><br /><br /><br /> <br /><br /><br /> <br /><br /><br /> <br /><br /><br /> <br /><br /> <table style="border: 1pt solid #a3a3a3\; border-collapse: collapse\; direction: ltr\;" border="1" cellspacing="0" cellpadding="0"><tbody><tr><td style="padding: 4pt\; border: 1pt solid #a3a3a3\; width: 4.645in\; vertical-align: top\;"><br /><p style="margin: 0in\; font-family: Arial\; font-size: 10pt\;">"For the best<br /> breakfast value on the Mendocino Coast\, come to our breakfast on the Second<br /> Sunday of each month between 8am to noon. You will enjoy eggs\, any way you<br /> want\, pancakes\, french toast\, hash browns\, sausage\, orange juice and<br /> Thanksgiving coffee. ALL YOU CAN EAT! $7.00 and $3.50 for kids. You can't go<br /> away hungry! "</p><br /></td></tr><tr><td style="padding: 4pt\; border: 1pt solid #a3a3a3\; width: 4.645in\; vertical-align: top\;"><br /><p style="margin: 0in\; font-family: Arial\; font-size: 10pt\;">Â </p><br /></td></tr><tr><td style="padding: 4pt\; border: 1pt solid #a3a3a3\; width: 4.645in\; vertical-align: top\;"><br /><p style="margin: 0in\; font-family: Arial\; font-size: 10pt\;">707-937-2604</p><br /></td></tr><tr><td style="padding: 4pt\; border: 1pt solid #a3a3a3\; width: 4.645in\; vertical-align: top\;"><br /><p style="margin: 0in\; font-family: Arial\; font-size: 10pt\;">Â </p><br /></td></tr><tr><td style="padding: 4pt\; border: 1pt solid #a3a3a3\; width: 4.645in\; vertical-align: top\;"><br /><p style="margin: 0in\; font-family: Arial\; font-size: 10pt\;"><a href="http://www.stanthonysofmendocino.com/">http://www.stanthonysofmendocino.com/</a></p><br /></td></tr></tbody></table><br /><br /></div><p><br /><br /></p>
LOCATION:"St Anthony's Hall top of Lansing St\, Mendocino"
UID:e.2883.113
SEQUENCE:3
DTSTAMP:20260423T145344Z
URL:https://mendocinocoast.com/events/details/st-anthony-s-knights-of-columbus-pancake-breakfast-01-28-2014-113
END:VEVENT

END:VCALENDAR
