BEGIN:VCALENDAR
VERSION:2.0
PRODID:-//ChamberMaster//Event Calendar 2.0//EN
METHOD:PUBLISH
X-PUBLISHED-TTL:P3D
REFRESH-INTERVAL:P3D
CALSCALE:GREGORIAN
BEGIN:VEVENT
DTSTART;VALUE=DATE:20140728
DTEND;VALUE=DATE:20140729
TRANSP:TRANSPARENT
X-MICROSOFT-CDO-ALLDAYEVENT:TRUE
SUMMARY:Spirit of America
DESCRIPTION:A Celebration of American MusicFeaturing The AcaFellas\, In the Mix\, The New Four and The Mendocino Coast Brass EnsembleA fundraiser for the Fort Bragg Food Bank.7 pm - 1st Presbyterian Church - 367 S Sanderson Way - Fort BraggCall 707-964-9404 for more information
X-ALT-DESC;FMTTYPE=text/html:<p>A Celebration of American Music</p><p>Featuring The AcaFellas\, In the Mix\, The New Four and The Mendocino Coast Brass Ensemble</p><p>A fundraiser for the Fort Bragg Food Bank.</p><p>7 pm - 1st Presbyterian Church - 367 S Sanderson Way - Fort Bragg</p><p>Call 707-964-9404 for more information</p>
LOCATION:1st Presbyterian Church Fort Bragg
UID:e.2883.296
SEQUENCE:3
DTSTAMP:20260423T023724Z
URL:https://mendocinocoast.com/events/details/spirit-of-america-07-28-2014-296
END:VEVENT

END:VCALENDAR
