BEGIN:VCALENDAR
VERSION:2.0
PRODID:-//ChamberMaster//Event Calendar 2.0//EN
METHOD:PUBLISH
X-PUBLISHED-TTL:P3D
REFRESH-INTERVAL:P3D
CALSCALE:GREGORIAN
BEGIN:VEVENT
DTSTART:20151116T213000Z
DTEND:20151116T223000Z
X-MICROSOFT-CDO-ALLDAYEVENT:FALSE
SUMMARY:South Coastal Trail Opening Celebration
DESCRIPTION:The City will hold a Ribbon-Cutting Ceremony for the South Fort Bragg Coastal Trail on December 1\, 2015 at 12:30 PM. The gate opens at 11:00 AM to allow ample time for parking. Please come and join us for a short and sweet ceremony and some light refreshments before walking on our beautiful new trial. This ceremony officates the public opening of the South Trail and Noyo Headlands Park.
X-ALT-DESC;FMTTYPE=text/html:<p>The City will hold a Ribbon-Cutting Ceremony for the South Fort Bragg Coastal Trail on December 1\, 2015 at 12:30 PM. The gate opens at 11:00 AM to allow ample time for parking. Please come and join us for a short and sweet ceremony and some light refreshments before walking on our beautiful new trial. This ceremony officates the public opening of the South Trail and Noyo Headlands Park.</p>
LOCATION:Noyo Headlands Park\, South Trail Fort Bragg
UID:e.2883.792
SEQUENCE:3
DTSTAMP:20260422T000907Z
URL:https://mendocinocoast.com/events/details/south-coastal-trail-opening-celebration-11-16-2015-792
END:VEVENT

END:VCALENDAR
