BEGIN:VCALENDAR
VERSION:2.0
PRODID:-//ChamberMaster//Event Calendar 2.0//EN
METHOD:PUBLISH
X-PUBLISHED-TTL:P3D
REFRESH-INTERVAL:P3D
CALSCALE:GREGORIAN
BEGIN:VEVENT
DTSTART;VALUE=DATE:20140503
DTEND;VALUE=DATE:20140504
TRANSP:TRANSPARENT
X-MICROSOFT-CDO-ALLDAYEVENT:TRUE
SUMMARY:Sourdough Loafers - Acoustic Concert
DESCRIPTION:Mendocino Stories and Music Series will feature The Sourdough Loafers on Friday June 13. With a mixture of Americana - Blues\, Jug Band\, Country\, Jazz\, Swing\, and good old Cowboy music â€“ the band will play in the Garden Room of the Mendocino Hotel. The bandâ€™s name came up when all members realized they each had sourdough starter in their refrigerators and all baked homemade sourdough bread. Music starts at 7:30PM\n\nBand members are Frannie Leopold-vocalist and guitarist and music addict - Peter Temple on bassÂ  - Chip Yerbic\, guitar\, mandolin\, vocals - Lee Rider with experience in bluegrass\, country\, folk\, rock and blues. Lee plays dobro\, pedal steel\, lap steel as well as acoustic and electric guitars. Special guest vocalist Judy Stavely.\n\nAll Ages Welcome! Doors open at 6:30PM for bistro menu and full bar. Advanced tickets - Reserved table seating - $20\, $15 general admission. For more info call Pattie at 707-937-1732. www.mendocinostories.com/events.html
X-ALT-DESC;FMTTYPE=text/html:<p><strong>Mendocino Stories and Music Series </strong>will feature The Sourdough Loafers on Friday June 13. With a mixture of Americana - Blues\, Jug Band\, Country\, Jazz\, Swing\, and good old Cowboy music â€“ the band will play in the Garden Room of the Mendocino Hotel. The bandâ€™s name came up when all members realized they each had sourdough starter in their refrigerators and all baked homemade sourdough bread. Music starts at 7:30PM<br /><br />Band members are Frannie Leopold-vocalist and guitarist and music addict - Peter Temple on bassÂ  - Chip Yerbic\, guitar\, mandolin\, vocals - Lee Rider with experience in bluegrass\, country\, folk\, rock and blues. Lee plays dobro\, pedal steel\, lap steel as well as acoustic and electric guitars. Special guest vocalist Judy Stavely.<br /><br />All Ages Welcome! Doors open at 6:30PM for bistro menu and full bar. Advanced tickets - Reserved table seating - $20\, $15 general admission. For more info call Pattie at 707-937-1732. www.mendocinostories.com/events.html</p>
LOCATION:Mendocino Hotel Garden Room
UID:e.2883.245
SEQUENCE:3
DTSTAMP:20260423T083200Z
URL:https://mendocinocoast.com/events/details/sourdough-loafers-acoustic-concert-05-03-2014-245
END:VEVENT

END:VCALENDAR
