BEGIN:VCALENDAR
VERSION:2.0
PRODID:-//ChamberMaster//Event Calendar 2.0//EN
METHOD:PUBLISH
X-PUBLISHED-TTL:P3D
REFRESH-INTERVAL:P3D
CALSCALE:GREGORIAN
BEGIN:VEVENT
DTSTART;VALUE=DATE:20140417
DTEND;VALUE=DATE:20140418
TRANSP:TRANSPARENT
X-MICROSOFT-CDO-ALLDAYEVENT:TRUE
SUMMARY:Soup & Chili Cook-Off
DESCRIPTION:3rd-Annual Soup & Chili Cook-OffA Benefit for the Fort Bragg Food BankCome help us choose the best soup & chili in town.Â  Competitors include 20 or more chefs from local restaurants and talented cooks from our community.Â  No-host bar features local wine and beer.Â  Silent Auction.Â  We guarantee a belly-ful of warm & yummy soup - perfect for the cool autumn weather.
X-ALT-DESC;FMTTYPE=text/html:<p><span style="font-size:small\;"><strong>3rd-Annual Soup &amp\; Chili Cook-Off</strong></span></p><p><span style="font-size:small\;">A Benefit for the Fort Bragg Food Bank</span></p><p>Come help us choose the best soup &amp\; chili in town.Â  Competitors include 20 or more chefs from local restaurants and talented cooks from our community.Â  No-host bar features local wine and beer.Â  Silent Auction.Â  We guarantee a belly-ful of warm &amp\; yummy soup - perfect for the cool autumn weather.</p>
LOCATION:Pentecost Hall\, 822 Stewart St Fort Bragg
UID:e.2883.221
SEQUENCE:3
DTSTAMP:20260423T100032Z
URL:https://mendocinocoast.com/events/details/soup-chili-cook-off-04-17-2014-221
END:VEVENT

END:VCALENDAR
