BEGIN:VCALENDAR
VERSION:2.0
PRODID:-//ChamberMaster//Event Calendar 2.0//EN
METHOD:PUBLISH
X-PUBLISHED-TTL:P3D
REFRESH-INTERVAL:P3D
CALSCALE:GREGORIAN
BEGIN:VEVENT
DTSTART:20160302T010100Z
DTEND:20160302T030500Z
X-MICROSOFT-CDO-ALLDAYEVENT:FALSE
SUMMARY:Soup & Chili Cook-Off
DESCRIPTION:The 5th Annual Soup & Chili Cook Off\, a fund raiser for the Fort Bragg Food Bank will be held Saturday October 22\, 2016 at Portuguese hall 5-7 pm. Stay tuned for more details!
X-ALT-DESC;FMTTYPE=text/html:<p><strong>The 5th Annual Soup &amp\; Chili Cook Off\,</strong> a fund raiser for the <strong>Fort Bragg Food Bank</strong> will be held <strong>Saturday October 22\, 2016</strong> at Portuguese hall 5-7 pm. Stay tuned for more details!</p>
LOCATION:Portuguese Hall Fort Bragg
UID:e.2883.864
SEQUENCE:3
DTSTAMP:20260421T173223Z
URL:https://mendocinocoast.com/events/details/soup-chili-cook-off-03-01-2016-864
END:VEVENT

END:VCALENDAR
