BEGIN:VCALENDAR
VERSION:2.0
PRODID:-//ChamberMaster//Event Calendar 2.0//EN
METHOD:PUBLISH
X-PUBLISHED-TTL:P3D
REFRESH-INTERVAL:P3D
CALSCALE:GREGORIAN
BEGIN:VEVENT
DTSTART;VALUE=DATE:20150224
DTEND;VALUE=DATE:20150225
TRANSP:TRANSPARENT
X-MICROSOFT-CDO-ALLDAYEVENT:TRUE
SUMMARY:Soup & Chili Cook-Off
DESCRIPTION:4th Annual Soup & Chili Cook-OffJoin us on a crisp fall evening to taste warm and yummy soups made by local chefs.A benefit for the Fort Bragg Food Bank.
X-ALT-DESC;FMTTYPE=text/html:<p>4th Annual Soup &amp\; Chili Cook-Off</p><p>Join us on a crisp fall evening to taste warm and yummy soups made by local chefs.</p><p>A benefit for the Fort Bragg Food Bank.</p>
LOCATION:Portuguese Hall Fort Bragg
UID:e.2883.552
SEQUENCE:3
DTSTAMP:20260422T163517Z
URL:https://mendocinocoast.com/events/details/soup-chili-cook-off-02-24-2015-552
END:VEVENT

END:VCALENDAR
