BEGIN:VCALENDAR
VERSION:2.0
PRODID:-//ChamberMaster//Event Calendar 2.0//EN
METHOD:PUBLISH
X-PUBLISHED-TTL:P3D
REFRESH-INTERVAL:P3D
CALSCALE:GREGORIAN
BEGIN:VEVENT
DTSTART;VALUE=DATE:20140503
DTEND;VALUE=DATE:20140504
TRANSP:TRANSPARENT
X-MICROSOFT-CDO-ALLDAYEVENT:TRUE
SUMMARY:Soul Survivors - Motown\, R&B Dance
DESCRIPTION:Welcome back the dance music of the Soul Survivors when they are featured in Mendocino Stories and Music Series on Saturday June 14 at the Hill House of Mendocino. They bring on the Motown sound with a mix of R&B\, Soul\, and flavors of Stax and Altantic Records. This event is supported by Arts Council of Mendocino\, a member organization that promotes the arts and cultivates creativity.Â Music starts at 7:30PM. \n\nKeyboards and vocals from Billy Schieve\, Jamie Gilliam on guitar and vocals\, along with vocalist Sharon Garner form the core of the band. Add the rhythm section of Johnny Bush on bass\, Steve Davidson on congas and Richie Rosenbaum on drums and you have a solid sound of emotion. Come out for a fun and energetic walk down Motown Lane.\n\nAll Ages Welcome! Doors open at 6PM for dinner menu and full bar. Advanced tickets - Reserved table seating - $20\, $15 general admission. For tickets and more info call Pattie at 707-937-1732. www.mendocinostories.com/events.html
X-ALT-DESC;FMTTYPE=text/html:<p>Welcome back the dance music of the Soul Survivors when they are featured in <strong>Mendocino Stories and Music Series</strong> on Saturday June 14 at the Hill House of Mendocino. They bring on the Motown sound with a mix of R&amp\;B\, Soul\, and flavors of Stax and Altantic Records. This event is supported by Arts Council of Mendocino\, a member organization that promotes the arts and cultivates creativity.Â Music starts at 7:30PM. <br /><br />Keyboards and vocals from Billy Schieve\, Jamie Gilliam on guitar and vocals\, along with vocalist Sharon Garner form the core of the band. Add the rhythm section of Johnny Bush on bass\, Steve Davidson on congas and Richie Rosenbaum on drums and you have a solid sound of emotion. Come out for a fun and energetic walk down Motown Lane.<br /><br />All Ages Welcome! Doors open at 6PM for dinner menu and full bar. Advanced tickets - Reserved table seating - $20\, $15 general admission. For tickets and more info call Pattie at 707-937-1732. www.mendocinostories.com/events.html</p>
LOCATION:Hill House of Mendocino
UID:e.2883.246
SEQUENCE:3
DTSTAMP:20260423T083152Z
URL:https://mendocinocoast.com/events/details/soul-survivors-motown-r-b-dance-05-03-2014-246
END:VEVENT

END:VCALENDAR
