BEGIN:VCALENDAR
VERSION:2.0
PRODID:-//ChamberMaster//Event Calendar 2.0//EN
METHOD:PUBLISH
X-PUBLISHED-TTL:P3D
REFRESH-INTERVAL:P3D
CALSCALE:GREGORIAN
BEGIN:VEVENT
DTSTART:20151215T043000Z
DTEND:20151215T073000Z
X-MICROSOFT-CDO-ALLDAYEVENT:FALSE
SUMMARY:Soul Elixir Dance Party
DESCRIPTION:Dance Party with â€œSoulÂ Elixirâ€\, a collaboration of Strings and Beats at Hill House\, Mendocino on Saturday\, January 23! Two friends withÂ differentÂ musical backgrounds coming together with a musical tapestryÂ from around theÂ world!Â An eclectic musical mix of Latin/Samba/Surf/Psychedelic/Afro-World Fusion dance music! Claudia Paige\, Tribal Drums/Percussion & PilarÂ Duran\, GuitarÂ extraordinaire\, weaves together tribal beats and luscious guitar soundsÂ tantalizing the audience to listen and then want to jump on their feet andÂ dance! Claudia & Pilar will round out their sound with special musical guest David Brown\, playing grooveÂ bass\, world fusion guitar and mandolin.Â For more information visit-Â www.claudiathedrummer.com\n\nDoors open at 6PM for casual dining and full bar\, Music at 7:30PM. $10 at the door. 937-0554
X-ALT-DESC;FMTTYPE=text/html:<p><span style="font-family:arial\, helvetica\, sans-serif\;font-size:medium\;">Dance Party with â€œSoulÂ Elixirâ€\, a collaboration of Strings and Beats at Hill House\, Mendocino on Saturday\, January 23! Two friends withÂ differentÂ musical backgrounds coming together with a musical tapestryÂ from around theÂ world!Â An eclectic musical mix of Latin/Samba/Surf/Psychedelic/Afro-World Fusion dance music! Claudia Paige\, Tribal Drums/Percussion &amp\; PilarÂ Duran\, GuitarÂ extraordinaire\, weaves together tribal beats and luscious guitar soundsÂ tantalizing the audience to listen and then want to jump on their feet andÂ dance! Claudia &amp\; Pilar will round out their sound with special musical guest David Brown\, playing grooveÂ bass\, world fusion guitar and mandolin.Â For more information visit-Â www.claudiathedrummer.com</span><br /><br /><span style="font-family:arial\, helvetica\, sans-serif\;font-size:medium\;">Doors open at 6PM for casual dining and full bar\, Music at 7:30PM. $10 at the door. 937-0554</span></p>
LOCATION:Hill House of Mendocino
UID:e.2883.812
SEQUENCE:3
DTSTAMP:20260421T223357Z
URL:https://mendocinocoast.com/events/details/soul-elixir-dance-party-12-14-2015-812
END:VEVENT

END:VCALENDAR
