BEGIN:VCALENDAR
VERSION:2.0
PRODID:-//ChamberMaster//Event Calendar 2.0//EN
METHOD:PUBLISH
X-PUBLISHED-TTL:P3D
REFRESH-INTERVAL:P3D
CALSCALE:GREGORIAN
BEGIN:VEVENT
DTSTART;VALUE=DATE:20150729
DTEND;VALUE=DATE:20150730
TRANSP:TRANSPARENT
X-MICROSOFT-CDO-ALLDAYEVENT:TRUE
SUMMARY:Soroptimist Paul Bunyan Days Cradft Fair
DESCRIPTION:The Soroptimist Paul Bunyan Days Craft Fair will be held at the field north of the C.V. Starr Center September 5th from 10am to 5pm and September 6th from 10am to 4pmThere will be 70 craft vendors offering a wide variety of items\, 5 food purveyors\, live music by Earl Oliver from noon to 1:30 and 3 raffle bags filled with donations from the vendors\, worth over $200 each\; tickets available at the Soroptimist booth at the front of the fair. Details at: Â http://www.soroptimistfortbraggca.org/SIFB
X-ALT-DESC;FMTTYPE=text/html:<p><strong>The Soroptimist Paul Bunyan Days Craft Fair</strong> <strong>will be held at the field north of the C.V. Starr Center September 5<sup>th</sup> from 10<sup>am</sup> to 5<sup>pm</sup> and September 6<sup>th</sup> from 10<sup>am</sup> to 4<sup>pm</sup></strong></p><p>There will be 70 craft vendors offering a wide variety of items\, 5 food purveyors\, live music by Earl Oliver from noon to 1:30 and 3 raffle bags filled with donations from the vendors\, worth over $200 each\; tickets available at the Soroptimist booth at the front of the fair. Details at: Â <strong>http://www.soroptimistfortbraggca.org/SIFB</strong></p>
LOCATION:CV Starr Aquatic Center Fort Bragg
UID:e.2883.694
SEQUENCE:3
DTSTAMP:20260422T064508Z
URL:https://mendocinocoast.com/events/details/soroptimist-paul-bunyan-days-cradft-fair-07-29-2015-694
END:VEVENT

END:VCALENDAR
