BEGIN:VCALENDAR
VERSION:2.0
PRODID:-//ChamberMaster//Event Calendar 2.0//EN
METHOD:PUBLISH
X-PUBLISHED-TTL:P3D
REFRESH-INTERVAL:P3D
CALSCALE:GREGORIAN
BEGIN:VEVENT
DTSTART:20151016T033000Z
DTEND:20151016T063000Z
X-MICROSOFT-CDO-ALLDAYEVENT:FALSE
SUMMARY:Songs of Jackson Browne
DESCRIPTION:A collaboration of fine local musicians is joining together to perform songs of Jackson Browne. The "Singer/Songwriter" genre stretches across the heart strings\, telling personal stories of mistakes and triumphs and utilizes rich harmonies to express the deep emotional content. Music will start at 7:30PM at Hill House Inn.\n\nThe core band for this event is Billy Schieve and Jamie Gilliam of The Go To Guys and Soul Survivors\, and Philip Dunn and Sean Van Buskirk of Highway One. Other musicians and vocalists will include Morgan Daniel\, Sherry Lea Jones\, Sue Sisk\, Lee Rider and Pattie DeMatteo plus special guests. \n\nAs a focus of the evening\, Jackson Browne's music will be very familiar because of the songs he has written and recorded like Runnin' on Empty\, Doctor My Eyes\, Rock Me on the Water\, The Pretender\, Before the Deluge - and the many musicians who have covered his tunes\, from Bonnie Raitt to Pearl Jam\, Don Henley to the Eagles\, Tom Rush\, Karla Bonoff\, Linda Ronstandt and Emmylou Harris\, New Grass Revival and Greg Allman.\n\nDoors open at 6PM with full bar and casual dining. Music at 7:30PM. Tickets are $20\, available at BrownPaperTickets.com and by calling 707-937-1732 or email pattied@mcn.org
X-ALT-DESC;FMTTYPE=text/html:<p><span style="font-size:small\;">A collaboration of fine local musicians is joining together to perform songs of Jackson Browne. The "Singer/Songwriter" genre stretches across the heart strings\, telling personal stories of mistakes and triumphs and utilizes rich harmonies to express the deep emotional content. Music will start at 7:30PM at Hill House Inn.</span><br /><br /><span style="font-size:small\;">The core band for this event is Billy Schieve and Jamie Gilliam of The Go To Guys and Soul Survivors\, and Philip Dunn and Sean Van Buskirk of Highway One. Other musicians and vocalists will include Morgan Daniel\, Sherry Lea Jones\, Sue Sisk\, Lee Rider and Pattie DeMatteo plus special guests. </span><br /><br /><span style="font-size:small\;">As a focus of the evening\, Jackson Browne's music will be very familiar because of the songs he has written and recorded like Runnin' on Empty\, Doctor My Eyes\, Rock Me on the Water\, The Pretender\, Before the Deluge - and the many musicians who have covered his tunes\, from Bonnie Raitt to Pearl Jam\, Don Henley to the Eagles\, Tom Rush\, Karla Bonoff\, Linda Ronstandt and Emmylou Harris\, New Grass Revival and Greg Allman.</span><br /><br /><span style="font-size:small\;">Doors open at 6PM with full bar and casual dining. Music at 7:30PM. Tickets are $20\, available at BrownPaperTickets.com and by calling 707-937-1732 or email pattied@mcn.org </span></p>
LOCATION:Hill House of Mendocino
UID:e.2883.755
SEQUENCE:3
DTSTAMP:20260422T015730Z
URL:https://mendocinocoast.com/events/details/songs-of-jackson-browne-10-15-2015-755
END:VEVENT

END:VCALENDAR
