BEGIN:VCALENDAR
VERSION:2.0
PRODID:-//ChamberMaster//Event Calendar 2.0//EN
METHOD:PUBLISH
X-PUBLISHED-TTL:P3D
REFRESH-INTERVAL:P3D
CALSCALE:GREGORIAN
BEGIN:VEVENT
DTSTART;VALUE=DATE:20140503
DTEND;VALUE=DATE:20140504
TRANSP:TRANSPARENT
X-MICROSOFT-CDO-ALLDAYEVENT:TRUE
SUMMARY:Song Improv Workshop for Beginners ... and the Terrified
DESCRIPTION:Mendocino Stories and Music Series will present a workshop on June 7\, led by Joshua Brody - â€œSONG IMPROVISATION FOR BEGINNERS ... AND THE TERRIFIED! Joshua has been teaching song improvisation for over thirty years. The workshop will be held at the Hill House of Mendocino\, from 1 â€“ 4PM.\n\nWant to sing? Think you can't? Or do you just want to learn another way to make music? Starting with the very basics â€” breathing\, ear training\, vocal production â€” students are led gradually and painlessly throughÂ all the elements that go into makingÂ a song. The spring workshop was a great hit\, with rave reviews.\n\nAdvance reservation required to guarantee a spot. Cost of the 3-hour workshop is $30. For more information about the shows and the workshop call Pattie at 707-937-1732 or www.mendocinostories.com/events_info.html
X-ALT-DESC;FMTTYPE=text/html:<p><strong>Mendocino Stories and Music Series</strong> will present a workshop on June 7\, led by Joshua Brody - â€œSONG IMPROVISATION FOR BEGINNERS ... AND THE TERRIFIED! Joshua has been teaching song improvisation for over thirty years. The workshop will be held at the Hill House of Mendocino\, from 1 â€“ 4PM.<br /><br />Want to sing? Think you can't? Or do you just want to learn another way to make music? Starting with the very basics â€” breathing\, ear training\, vocal production â€” students are led gradually and painlessly throughÂ all the elements that go into makingÂ a song. The spring workshop was a great hit\, with rave reviews.<br /><br />Advance reservation required to guarantee a spot. Cost of the 3-hour workshop is $30. For more information about the shows and the workshop call Pattie at 707-937-1732 or www.mendocinostories.com/events_info.html<br /><br /></p>
LOCATION:Hill House of Mendocino
UID:e.2883.244
SEQUENCE:3
DTSTAMP:20260423T083007Z
URL:https://mendocinocoast.com/events/details/song-improv-workshop-for-beginners-and-the-terrified-05-03-2014-244
END:VEVENT

END:VCALENDAR
