BEGIN:VCALENDAR
VERSION:2.0
PRODID:-//ChamberMaster//Event Calendar 2.0//EN
METHOD:PUBLISH
X-PUBLISHED-TTL:P3D
REFRESH-INTERVAL:P3D
CALSCALE:GREGORIAN
BEGIN:VEVENT
DTSTART;VALUE=DATE:20140311
DTEND;VALUE=DATE:20140312
TRANSP:TRANSPARENT
X-MICROSOFT-CDO-ALLDAYEVENT:TRUE
SUMMARY:Soccer Tournament
DESCRIPTION:Soccer Tournament. Boys and Girls ages 9 to 19. Skunk Classic. Check with
X-ALT-DESC;FMTTYPE=text/html:<p>Soccer Tournament. Boys and Girls ages 9 to 19. Skunk Classic. Check with</p>
LOCATION:Fort Bragg Prebyterian Church
UID:e.2883.173
SEQUENCE:3
DTSTAMP:20260423T113617Z
URL:https://mendocinocoast.com/events/details/soccer-tournament-03-11-2014-173
END:VEVENT

END:VCALENDAR
