BEGIN:VCALENDAR
VERSION:2.0
PRODID:-//ChamberMaster//Event Calendar 2.0//EN
METHOD:PUBLISH
X-PUBLISHED-TTL:P3D
REFRESH-INTERVAL:P3D
CALSCALE:GREGORIAN
BEGIN:VEVENT
DTSTART:20150420T170000Z
DTEND:20150421T000000Z
X-MICROSOFT-CDO-ALLDAYEVENT:FALSE
SUMMARY:"SiZe"
DESCRIPTION:PARTNERS GALLERY"SiZe"Works by Gallery and Guest ArtistsApril 30 â€“ June 1\, 2015First Friday Reception May 1\, 5-8pmÂ In May\, Partners Gallery is having a show exploring size in art.Â â€œWhen I go to museums\, the paintings that involve me the most are the ones that are large enough to step into. I love being surrounded by a painting. Those early large field paintings of Pollack and Helen Frankenthaler\, Joan Mitchell and Richard Diebenkorn will hold me for hours\,â€ says gallery artist Rosemary Allen.Â Thereâ€™s nothing quite like the experience of large art pieces: canvases whose space you feel could almost swallow you up\, or the impact of sculpture portraying humans or animals of bear-sized proportions. Then there is the small\, the miniscule\, more intimate works that make you have to focus in closely to examine something you are used to on a larger scale.Â  What if the piece is small\, but seems to represent something larger than its natural scale?Â Works in this show include a group of large and small works in a variety of media by gallery and guest artists.Â Partners Gallery is located at 335 N. Franklin Street in Fort Bragg and is open Wednesday through Monday 10 am to 5 pm and Sundays 10 am to 4 pm.707 962-0233Â  http://www.partnersgallery.com
X-ALT-DESC;FMTTYPE=text/html:<p>PARTNERS GALLERY</p><p>"SiZe"</p><p>Works by Gallery and Guest Artists</p><p>April 30 â€“ June 1\, 2015</p><p>First Friday Reception May 1\, 5-8pm</p><p>Â </p><p>In May\, Partners Gallery is having a show exploring size in art.</p><p>Â </p><p>â€œWhen I go to museums\, the paintings that involve me the most are the ones that are large enough to step into. I love being surrounded by a painting. Those early large field paintings of Pollack and Helen Frankenthaler\, Joan Mitchell and Richard Diebenkorn will hold me for hours\,â€ says gallery artist Rosemary Allen.</p><p>Â </p><p>Thereâ€™s nothing quite like the experience of large art pieces: canvases whose space you feel could almost swallow you up\, or the impact of sculpture portraying humans or animals of bear-sized proportions. Then there is the small\, the miniscule\, more intimate works that make you have to focus in closely to examine something you are used to on a larger scale.Â  What if the piece is small\, but seems to represent something larger than its natural scale?</p><p>Â </p><p>Works in this show include a group of large and small works in a variety of media by gallery and guest artists.</p><p>Â </p><p>Partners Gallery is located at 335 N. Franklin Street in Fort Bragg and is open Wednesday through Monday 10 am to 5 pm and Sundays 10 am to 4 pm.</p><p>707 962-0233Â  <a href="http://www.partnersgallery.com">http://www.partnersgallery.com</a>&gt\;</p>
LOCATION:Partners Gallery Fort Bragg
UID:e.2883.605
SEQUENCE:3
DTSTAMP:20260422T114634Z
URL:https://mendocinocoast.com/events/details/size-04-20-2015-605
END:VEVENT

END:VCALENDAR
