BEGIN:VCALENDAR
VERSION:2.0
PRODID:-//ChamberMaster//Event Calendar 2.0//EN
METHOD:PUBLISH
X-PUBLISHED-TTL:P3D
REFRESH-INTERVAL:P3D
CALSCALE:GREGORIAN
BEGIN:VEVENT
DTSTART;VALUE=DATE:20150203
DTEND;VALUE=DATE:20150204
TRANSP:TRANSPARENT
X-MICROSOFT-CDO-ALLDAYEVENT:TRUE
SUMMARY:Singer/Songwriter Showcase - Steven Bates and Sheila Fetzer
DESCRIPTION:Mendocino Stories & Events will feature a Singer/songwriter Showcase in an acoustic concert at Little River Innâ€™s Abalone Room on Sunday\, March 22. Sheila Fetzer and Teresa Tudury\, two uniquely powerful performers\, have pleased\, teased and delighted local audiences several times in recent years. They will each perform a solo set starting at 7:30PM. Net proceeds to benefit Albion/Little River Fire Department.\n\nSheila Fetzer grew up playing music inspired and influenced byÂ Joni Mitchell\, Bonnie Raitt\,Â Dylan and Neil Young. Sharing music to influence and connect people in a positive way is her focus.Â  \n\nAn absolute original with a deep sultry voice and a scathing comedic wit\, Teresa Tudury is a consummate performer who pours out her original songs with power\, passion\, and disarming humor. Teresa's voice has been described as a cross between Bette Midler and Bonnie Raitt (LA Weekly) with vocal stylings that perfectly complement her bluesy guitar playing.\n\nDoors open at 7:00 PM with refreshments. Tickets are $20 and can be purchased at Little River Inn front desk or by phone 937-5942\; Moore Used Books in Mendocino\; and Music Merchant in Fort Bragg. For event info call 937-1732 or www.mendocinostories.com/events.html
X-ALT-DESC;FMTTYPE=text/html:<p>Mendocino Stories &amp\; Events will feature a Singer/songwriter Showcase in an acoustic concert at Little River Innâ€™s Abalone Room on Sunday\, March 22. Sheila Fetzer and Teresa Tudury\, two uniquely powerful performers\, have pleased\, teased and delighted local audiences several times in recent years. They will each perform a solo set starting at 7:30PM. Net proceeds to benefit Albion/Little River Fire Department.<br /><br />Sheila Fetzer grew up playing music inspired and influenced byÂ Joni Mitchell\, Bonnie Raitt\,Â Dylan and Neil Young. Sharing music to influence and connect people in a positive way is her focus.Â  <br /><br />An absolute original with a deep sultry voice and a scathing comedic wit\, Teresa Tudury is a consummate performer who pours out her original songs with power\, passion\, and disarming humor. Teresa's voice has been described as a cross between Bette Midler and Bonnie Raitt (LA Weekly) with vocal stylings that perfectly complement her bluesy guitar playing.<br /><br />Doors open at 7:00 PM with refreshments. Tickets are $20 and can be purchased at Little River Inn front desk or by phone 937-5942\; Moore Used Books in Mendocino\; and Music Merchant in Fort Bragg. For event info call 937-1732 or www.mendocinostories.com/events.html</p>
LOCATION:Little River Inn\, Abalone Room Little River\, CA
UID:e.2883.495
SEQUENCE:3
DTSTAMP:20260422T151420Z
URL:https://mendocinocoast.com/events/details/singer-songwriter-showcase-steven-bates-and-sheila-fetzer-02-03-2015-495
END:VEVENT

END:VCALENDAR
