BEGIN:VCALENDAR
VERSION:2.0
PRODID:-//ChamberMaster//Event Calendar 2.0//EN
METHOD:PUBLISH
X-PUBLISHED-TTL:P3D
REFRESH-INTERVAL:P3D
CALSCALE:GREGORIAN
BEGIN:VEVENT
DTSTART:20150618T030100Z
DTEND:20150618T043000Z
X-MICROSOFT-CDO-ALLDAYEVENT:FALSE
SUMMARY:Simaine Cellars Presents "A Summer Concert with..."
DESCRIPTION:World Jazz Blues Fusion Recording Artist Â Presenting music from Jessie's albumsLet's Connect\, Sound Travels\, Moment in Time\, Soft WaveÂ and an new Blues Album...Jessie Allen Cooper and Friends.Tickets Available at Dig! Music\, and Simaine Cellars in UkiahAdmission $25.00 concertÂ Â Â $30.00 day of concertSimaine Cellars\, 3001 So. State St #42\, Ukiah\, CA 95482  (in South Ukiah\, just north of the Redwood Health Club\, 2nd warehouse in)
X-ALT-DESC;FMTTYPE=text/html:<p><div><span><span style="font-family: Calibri\;"> </span></span></div><span style="font-size: small\;"> </span><div><strong><span><span style="font-family: Calibri\;">World Jazz Blues Fusion Recording Artist Â <strong>Presenting music from Jessie's albums</strong><div>Let's Connect\, Sound Travels\, Moment in Time\, Soft WaveÂ <span>and an new Blues Album...<strong><span>Jessie Allen Cooper and Friends.<div><strong><span><span style="font-family: Calibri\;">Tickets Available at Dig! Music\, and Simaine Cellars in Ukiah</span></span></strong></div></span></strong></span></div><div><strong><span><span style="font-family: Calibri\;">Admission $25.00 concertÂ Â Â $30.00 day of concert</span></span></strong></div><div><strong><span><span style="font-family: Calibri\;">Simaine Cellars\, 3001 So. State St #42\, Ukiah\, CA 95482</span></span></strong></div><div><span><span style="font-family: Calibri\;"> </span></span></div></span></span></strong></div><div><strong><span><span style="font-family: Calibri\;"> <strong><span><span style="font-family: Calibri\;">(in South Ukiah\, just north of the Redwood Health Club\, 2nd warehouse in)</span></span></strong><div></div><div></div><div></div><div><span><span style="font-family: Calibri\;"> </span></span></div></span></span></strong></div><div><span style="font-family: Calibri\; font-size: small\;"> </span></div><div><span style="font-family: Calibri\; font-size: small\;"><br /></span></div></p>
LOCATION:Simaine Cellars Ukiah
UID:e.2883.656
SEQUENCE:3
DTSTAMP:20260422T101545Z
URL:https://mendocinocoast.com/events/details/simaine-cellars-presents-a-summer-concert-with-06-17-2015-656
END:VEVENT

END:VCALENDAR
