BEGIN:VCALENDAR
VERSION:2.0
PRODID:-//ChamberMaster//Event Calendar 2.0//EN
METHOD:PUBLISH
X-PUBLISHED-TTL:P3D
REFRESH-INTERVAL:P3D
CALSCALE:GREGORIAN
BEGIN:VEVENT
DTSTART:20131206T200000Z
DTEND:20131207T030000Z
X-MICROSOFT-CDO-ALLDAYEVENT:FALSE
SUMMARY:Silica to Sparkle - The Art of Glass
DESCRIPTION:Glass -- so fragile and so dangerous and yet so amazingly beautiful. It is a multi-dimensional\, multi-faceted medium. It can be blown\, fused\, carved\, torched\, painted\, cut and put back together. In other words\, it is not your usual art platform. It can be used as a window\, a vessel\, an enclosure or decorative item. Glass artists are only limited by their imaginations. This show will showcase the best of art glass in a beautiful venue. December is a perfect month for sparkling things\, so join us in celebrating the art of glass. This is an open\, non-juried show with a judge and awards. We encourage all glass artists to enter so we will have a remote drop off day in Sebastopol on December 2 in addition to the December 3 drop off day at the Gualala Arts Center in Gualala (see registration form for details). The Opening Reception with finger foods and a no-host bar is on December 6\, 2013 from 5:00 to 7:00 p.m. All artists\, from all backgrounds\, are welcome to participate in this exhibit. Registration form is available online or at the Gualala Arts Center.
X-ALT-DESC;FMTTYPE=text/html:<p>Glass -- so fragile and so dangerous and yet so amazingly beautiful. It is a multi-dimensional\, multi-faceted medium. It can be blown\, fused\, carved\, torched\, painted\, cut and put back together. In other words\, it is not your usual art platform. It can be used as a window\, a vessel\, an enclosure or decorative item. Glass artists are only limited by their imaginations. This show will showcase the best of art glass in a beautiful venue. December is a perfect month for sparkling things\, so join us in celebrating the art of glass. This is an open\, non-juried show with a judge and awards. We encourage all glass artists to enter so we will have a remote drop off day in Sebastopol on December 2 in addition to the December 3 drop off day at the Gualala Arts Center in Gualala (see registration form for details). The Opening Reception with finger foods and a no-host bar is on December 6\, 2013 from 5:00 to 7:00 p.m. All artists\, from all backgrounds\, are welcome to participate in this exhibit. Registration form is available online or at the Gualala Arts Center.</p>
LOCATION:Gualala Arts Center 46501 Gualala Rd. Gualala Mendocino
UID:e.2883.80
SEQUENCE:3
DTSTAMP:20260423T202248Z
URL:https://mendocinocoast.com/events/details/silica-to-sparkle-the-art-of-glass-12-06-2013-80
END:VEVENT

END:VCALENDAR
