BEGIN:VCALENDAR
VERSION:2.0
PRODID:-//ChamberMaster//Event Calendar 2.0//EN
METHOD:PUBLISH
X-PUBLISHED-TTL:P3D
REFRESH-INTERVAL:P3D
CALSCALE:GREGORIAN
BEGIN:VEVENT
DTSTART;VALUE=DATE:20140910
DTEND;VALUE=DATE:20140911
TRANSP:TRANSPARENT
X-MICROSOFT-CDO-ALLDAYEVENT:TRUE
SUMMARY:Sidewalk Saturday
DESCRIPTION:The merchants of historic downtown Fort Bragg are celebrating with the 3rd annual Sidewalk Saturday on Saturday\, September 20th from 11:00AM to 4:00PM.Â  There will be music\, merriment and (of course) shopping!Â  Stop into Town Hall to visit the historic photo display and enjoy some cookies. Donâ€™t miss this chance to get your holiday gift list started early this year.Â  See you downtown!Â  Brought to you by the Fort Bragg Promotion Committee. www.fortbragg.comÂ
X-ALT-DESC;FMTTYPE=text/html:<p>The merchants of historic downtown Fort Bragg are celebrating with the 3<sup>rd</sup> annual Sidewalk Saturday on Saturday\, September 20<sup>th</sup> from 11:00AM to 4:00PM.Â  There will be music\, merriment and (of course) shopping!Â  Stop into Town Hall to visit the historic photo display and enjoy some cookies. Donâ€™t miss this chance to get your holiday gift list started early this year.Â  See you downtown!Â  Brought to you by the Fort Bragg Promotion Committee. www.fortbragg.com</p><p>Â </p><p><a style="height: 20px\; width: 40px\; position: absolute\; opacity: 0.85\; z-index: 8675309\; display: none\; cursor: pointer\; border: medium none\; background-image: url(&quot\;data\;" href="http://www.pinterest.com/pin/create/extension/"></a></p>
LOCATION:Historic Downtown Fort Bragg
UID:e.2883.326
SEQUENCE:3
DTSTAMP:20260422T231631Z
URL:https://mendocinocoast.com/events/details/sidewalk-saturday-09-10-2014-326
END:VEVENT

END:VCALENDAR
