BEGIN:VCALENDAR
VERSION:2.0
PRODID:-//ChamberMaster//Event Calendar 2.0//EN
METHOD:PUBLISH
X-PUBLISHED-TTL:P3D
REFRESH-INTERVAL:P3D
CALSCALE:GREGORIAN
BEGIN:VEVENT
DTSTART:20141030T190100Z
DTEND:20141031T000000Z
X-MICROSOFT-CDO-ALLDAYEVENT:FALSE
SUMMARY:SHOP SMALL SATURDAY
DESCRIPTION:Small Business Saturday is a day dedicated to supporting small businesses across the country. Founded by American Express in 2010\, this day is celebrated every year on the Saturday after Thanksgiving. The Mendocino Coast Chamber of Commerce is proud to be an official NEIGHBORHOOD CHAMPION. We are organizing an exciting passport program in Fort Bragg & Mendocino.Mendocino Coast Chamber Passport Programâ€¨\nOn Nov 29\, shoppers can collect stamps in any of our 70 participating Shop Small stores in Fort Bragg and Mendocino. This way\, you can take part in our passport drawing\; the prize is an exciting Mendo Coast passport basket with gift certificates and unique gift items from the Mendocino coast â€“ worth over 200 dollars! How does the passport program work?â€¨\nParticipating shops will hand out a passport book at your first purchase. With every purchase in one of our participating shops\, you will receive a stamp in your book â€“ look for the â€œGet your Passport stamped Hereâ€ posters in the store front windows which indicate our participating shops. Stamps can be collected between 11 a.m. and 4 p.m. on Nov 29. When you have collected eight stamps\, you can drop your passport in one of our drop off boxes - and then keep your fingers crossed!Where do I drop off my passport book?\n There will be passport collecting boxes in four different places. You can drop off your passport before 5 p.m. on Nov 29 atReynold's Men's Wear at 349 North Franklin Street\, Fort Bragg\n Low Tide in the Depot building at 401 North Main Street\, Fort BraggGallery Bookshop & Bookwinkles at 319 Karsten Street\, Mendocinoâ€¨\nSallie Mac at 10540 Lansing Street\, Mendocino.When will the drawing take place and how will the winner be notified?â€¨\nThe drawing will take place on Monday\, Dec 1 by 5 p.m. The winner will be notified via Email or phone. The winner will be posted on Facebook\, Twitter and the Chamber website.
X-ALT-DESC;FMTTYPE=text/html:<p><span style="font-size: small\;">Small Business Saturday is a day dedicated to supporting small businesses across the country. Founded</span> <span style="font-size: small\;">by American Express in 2010\, this day is celebrated every year on the Saturday after Thanksgiving. The Mendocino Coast Chamber of Commerce is proud to be an official NEIGHBORHOOD CHAMPION. We are organizing an exciting passport program in Fort Bragg &amp\; Mendocino.</span></p><p><span style="color: #12337c\;"><span style="font-family: ArialMT\, sans-serif\;"><span style="font-size: medium\;"><strong>Mendocino Coast Chamber Passport Programâ€¨<br /></strong></span></span></span><span style="color: #000000\;"><span style="font-family: ArialMT\, sans-serif\;"><span style="font-size: small\;"><span>On Nov 29\, shoppers can collect stamps in any of our 70 participating Shop Small stores in Fort Bragg and Mendocino. This way\, you can take part in our passport drawing\; the prize is an exciting Mendo Coast passport basket with gift certificates and unique gift items from the Mendocino coast â€“ worth over 200 dollars! </span></span></span></span></p><p><span style="color: #000000\;"><span style="font-family: ArialMT\, sans-serif\;"><span style="font-size: small\;"><em><span>How does the passport program work?â€¨<br /></span></em></span></span></span><span style="color: #000000\;"><span style="font-family: ArialMT\, sans-serif\;"><span style="font-size: small\;"><span><span>Participating shops will hand out a passport book at your first purchase. With every purchase in one of our participating shops\, you will receive a stamp in your book â€“ look for the </span></span></span></span></span><span style="color: #000000\;"><span style="font-family: ArialMT\, sans-serif\;"><span style="font-size: small\;"><span><strong>â€œGet your Passport stamped Hereâ€ posters</strong></span></span></span></span><span style="color: #000000\;"><span style="font-family: ArialMT\, sans-serif\;"><span style="font-size: small\;"><span><span> in the store front windows which indicate our participating shops. Stamps can be collected between 11 a.m. and 4 p.m. on Nov 29. When you have collected </span></span></span></span></span><span style="color: #000000\;"><span style="font-family: ArialMT\, sans-serif\;"><span style="font-size: small\;"><span><strong>eight </strong></span></span></span></span><span style="color: #000000\;"><span style="font-family: ArialMT\, sans-serif\;"><span style="font-size: small\;"><span><span>stamps\, you can drop your passport in one of our drop off boxes - and then keep your fingers crossed!</span></span></span></span></span></p><p><span style="color: #000000\;"><span style="font-family: ArialMT\, sans-serif\;"><span style="font-size: small\;"><em><span>Where do I drop off my passport book?<br /> </span></em></span></span></span><span style="color: #000000\;"><span style="font-family: ArialMT\, sans-serif\;"><span style="font-size: small\;"><span><span>There will be passport collecting boxes in four different places. You can drop off your passport before 5 p.m. on Nov 29 at</span></span></span></span></span></p><p><span style="color: #000000\;"><span style="font-family: ArialMT\, sans-serif\;"><span style="font-size: small\;"><span><strong>Reynold's Men's Wear </strong></span></span></span></span><span style="color: #000000\;"><span style="font-family: ArialMT\, sans-serif\;"><span style="font-size: small\;"><span><span>at 349 North Franklin Street\, Fort Bragg<br /> </span></span></span></span></span><span style="color: #000000\;"><span style="font-family: ArialMT\, sans-serif\;"><span style="font-size: small\;"><span><strong>Low Tide</strong></span></span></span></span><span style="color: #000000\;"><span style="font-family: ArialMT\, sans-serif\;"><span style="font-size: small\;"><span><span> in the Depot building at 401 North Main Street\, Fort Bragg</span></span></span></span></span></p><p><span style="color: #000000\;"><span style="font-family: ArialMT\, sans-serif\;"><span style="font-size: small\;"><span><strong>Gallery Bookshop &amp\; Bookwinkles </strong></span></span></span></span><span style="color: #000000\;"><span style="font-family: ArialMT\, sans-serif\;"><span style="font-size: small\;"><span><span>at 319 Karsten Street\, Mendocinoâ€¨<br /></span></span></span></span></span><span style="color: #000000\;"><span style="font-family: ArialMT\, sans-serif\;"><span style="font-size: small\;"><span><strong>Sallie Mac</strong></span></span></span></span><span style="color: #000000\;"><span style="font-family: ArialMT\, sans-serif\;"><span style="font-size: small\;"><span><span> at 10540 Lansing Street\, Mendocino.</span></span></span></span></span></p><p><span style="color: #000000\;"><span style="font-family: ArialMT\, sans-serif\;"><span style="font-size: small\;"><em><span>When will the drawing take place and how will the winner be notified?â€¨<br /></span></em></span></span></span><span style="color: #000000\;"><span style="font-family: ArialMT\, sans-serif\;"><span style="font-size: small\;"><span><span>The drawing will take place on Monday\, Dec 1 by 5 p.m. The winner will be notified via Email or phone. The winner will be posted on Facebook\, Twitter and the Chamber website.</span></span></span></span></span></p>
LOCATION:Mendocino Coast
UID:e.2883.366
SEQUENCE:3
DTSTAMP:20260422T214355Z
URL:https://mendocinocoast.com/events/details/shop-small-saturday-10-30-2014-366
END:VEVENT

END:VCALENDAR
