BEGIN:VCALENDAR
VERSION:2.0
PRODID:-//ChamberMaster//Event Calendar 2.0//EN
METHOD:PUBLISH
X-PUBLISHED-TTL:P3D
REFRESH-INTERVAL:P3D
CALSCALE:GREGORIAN
BEGIN:VEVENT
DTSTART:20151124T180000Z
DTEND:20151125T030000Z
X-MICROSOFT-CDO-ALLDAYEVENT:FALSE
SUMMARY:Shop Small!
DESCRIPTION:Â What are yourÂ â€ª#â€ŽSmallBizSatâ€¬ plans? Stop by our event on Nov 28 at local businesses in Fort Bragg and Mendocino!Â Â Show your support by taking selfies in the shop\, with staff\, merchandise or whatever you want! Tag the businesses inÂ each photo and share them withÂ â€ª#â€ŽShopSmallâ€¬. Â We will be picking the best selfie!Let's support our local businesses!
X-ALT-DESC;FMTTYPE=text/html:<p>Â </p><p>What are yourÂ <a href="https://www.facebook.com/hashtag/smallbizsat?source=feed_text&amp\;story_id=10153676898136221"><span>â€ª#â€Ž</span><span>SmallBizSatâ€¬</span></a> plans? Stop by our event on Nov 28 at local businesses in Fort Bragg and Mendocino!Â Â Show your support by taking selfies in the shop\, with staff\, merchandise or whatever you want! Tag the businesses inÂ each photo and share them withÂ <a href="https://www.facebook.com/hashtag/shopsmall?source=feed_text&amp\;story_id=10153676898136221"><span>â€ª#â€Ž</span><span>ShopSmallâ€¬</span></a>. Â We will be picking the best selfie!</p><p>Let's support our local businesses!</p><p><span><br /></span></p>
LOCATION:Local Businessees Fort Bragg/Mendocino
UID:e.2883.799
SEQUENCE:3
DTSTAMP:20260422T000630Z
URL:https://mendocinocoast.com/events/details/shop-small-11-24-2015-799
END:VEVENT

END:VCALENDAR
