BEGIN:VCALENDAR
VERSION:2.0
PRODID:-//ChamberMaster//Event Calendar 2.0//EN
METHOD:PUBLISH
X-PUBLISHED-TTL:P3D
REFRESH-INTERVAL:P3D
CALSCALE:GREGORIAN
BEGIN:VEVENT
DTSTART:20140403T163000Z
DTEND:20140403T193000Z
X-MICROSOFT-CDO-ALLDAYEVENT:FALSE
SUMMARY:Seal Monitoring Training
DESCRIPTION:Volunteers are needed to act as Harbor Seal Pupping Monitors at MacKerricher State Park.\nVolunteers spend time on the beach at the seal rookery and remind park visitors\nto keep away from the seal moms and pups so they can safely give birth and\nraise their young. Lean about seals\, hang out at the beach\, and protect the\nnext generation of marine mammals on the Mendocino Coast. If you are interested\nin serving as a Seal Monitor\, please call Fred Andrews at 707-961-0471.
X-ALT-DESC;FMTTYPE=text/html:<p><br /><br /></p><p>Volunteers are needed to act as Harbor Seal Pupping Monitors at MacKerricher State Park.<br />Volunteers spend time on the beach at the seal rookery and remind park visitors<br />to keep away from the seal moms and pups so they can safely give birth and<br />raise their young. Lean about seals\, hang out at the beach\, and protect the<br />next generation of marine mammals on the Mendocino Coast. If you are interested<br />in serving as a Seal Monitor\, please call Fred Andrews at 707-961-0471.</p>
LOCATION:MacKerricher State Park Office Fort Bragg
UID:e.2883.195
SEQUENCE:3
DTSTAMP:20260423T100005Z
URL:https://mendocinocoast.com/events/details/seal-monitoring-training-04-03-2014-195
END:VEVENT

END:VCALENDAR
