BEGIN:VCALENDAR
VERSION:2.0
PRODID:-//ChamberMaster//Event Calendar 2.0//EN
METHOD:PUBLISH
X-PUBLISHED-TTL:P3D
REFRESH-INTERVAL:P3D
CALSCALE:GREGORIAN
BEGIN:VEVENT
DTSTART:20150402T210000Z
DTEND:20150403T000000Z
X-MICROSOFT-CDO-ALLDAYEVENT:FALSE
SUMMARY:Scrabble Afternoon @ Masonic Lodge\, Mendocino
DESCRIPTION:The Estren Star Club of Mendocino is sponsoring a Scrabble Afternoon at the Masonic Lodge in Mendocino\, corner of Lansing and Ukiah Streets.June 6\, 2pm - 5pm.
X-ALT-DESC;FMTTYPE=text/html:<p>The Estren Star Club of Mendocino is sponsoring a Scrabble Afternoon at the Masonic Lodge in Mendocino\, corner of Lansing and Ukiah Streets.</p><p>June 6\, 2pm - 5pm.</p>
LOCATION:Masonic Lodge Mendocino
UID:e.2883.583
SEQUENCE:3
DTSTAMP:20260422T115116Z
URL:https://mendocinocoast.com/events/details/scrabble-afternoon-masonic-lodge-mendocino-04-02-2015-583
END:VEVENT

END:VCALENDAR
