BEGIN:VCALENDAR
VERSION:2.0
PRODID:-//ChamberMaster//Event Calendar 2.0//EN
METHOD:PUBLISH
X-PUBLISHED-TTL:P3D
REFRESH-INTERVAL:P3D
CALSCALE:GREGORIAN
BEGIN:VEVENT
DTSTART:20151024T180000Z
DTEND:20151024T130100Z
X-MICROSOFT-CDO-ALLDAYEVENT:FALSE
SUMMARY:Schemes for Living On a Pissed-Off Planet\, Sculpture by Virginia Stearns
DESCRIPTION:SCHEMES FOR LIVING ON A PISSED-OFF PLANETPlastic Toys and Mixed Media Sculpture by Virginia StearnsÂ November 5 - 30\, 2015First Friday Reception Nov. 6\, 5-8pmÂ Using model kits\, HO train accessories\, boots\, bicycle helmets and plastic toys and mixed media\, Stearns creates playful scenarios of Climate Change living strategies to evoke the ingenuity\, inventiveness\, pluck and sense of humor needed to adapt to rapidly advancing planetary changes.Â Partners Gallery is located at 335N. Franklin Street in Fort Bragg and is open Wednesday through Monday 10 am to 5 pm and Sundays 10 am to 4 pm. Closed Thanksgiving Day November 26.707 962-0233Â  http://www.partnersgallery.com Â
X-ALT-DESC;FMTTYPE=text/html:<p>SCHEMES FOR LIVING ON A PISSED-OFF PLANET</p><p>Plastic Toys and Mixed Media Sculpture by Virginia Stearns</p><p>Â </p><p>November 5 - 30\, 2015</p><p>First Friday Reception Nov. 6\, 5-8pm</p><p>Â </p><p>Using model kits\, HO train accessories\, boots\, bicycle helmets and plastic toys and mixed media\, Stearns creates playful scenarios of Climate Change living strategies to evoke the ingenuity\, inventiveness\, pluck and sense of humor needed to adapt to rapidly advancing planetary changes.</p><p>Â </p><p>Partners Gallery is located at 335N. Franklin Street in Fort Bragg and is open Wednesday through Monday 10 am to 5 pm and Sundays 10 am to 4 pm. Closed Thanksgiving Day November 26.</p><p>707 962-0233Â  <a href="http://www.partnersgallery.com">http://www.partnersgallery.com</a>&gt\;</p><p>Â </p>
LOCATION:Partners Gallery Fort Bragg
UID:e.2883.770
SEQUENCE:3
DTSTAMP:20260422T020149Z
URL:https://mendocinocoast.com/events/details/schemes-for-living-on-a-pissed-off-planet-sculpture-by-virginia-stearns-10-24-2015-770
END:VEVENT

END:VCALENDAR
