BEGIN:VCALENDAR
VERSION:2.0
PRODID:-//ChamberMaster//Event Calendar 2.0//EN
METHOD:PUBLISH
X-PUBLISHED-TTL:P3D
REFRESH-INTERVAL:P3D
CALSCALE:GREGORIAN
BEGIN:VEVENT
DTSTART:20140104T110000Z
DTEND:20140104T100000Z
X-MICROSOFT-CDO-ALLDAYEVENT:FALSE
SUMMARY:Saving Wild Places - Mendocino Eco Artists support Mendocino Land Trust
DESCRIPTION:Back independent art and conservation simultaneously at this upcoming art show held at Glendeven Inns Wine Barn Gallery. The public is welcome to attend daily from 9:00am - noon and again from 3:00pm through 6:00pm. To learn more\, please call 707-962-0470\, or contact either the Eco Artists or Glendeven.
X-ALT-DESC;FMTTYPE=text/html:<p>Back independent art and conservation simultaneously at this upcoming art show held at Glendeven Inns Wine Barn Gallery. The public is welcome to attend daily from 9:00am - noon and again from 3:00pm through 6:00pm. To learn more\, please call 707-962-0470\, or contact either the Eco Artists or Glendeven.</p>
LOCATION:Glendeven Inn\, Wine Bar Mendocino
UID:e.2883.78
SEQUENCE:3
DTSTAMP:20260423T150044Z
URL:https://mendocinocoast.com/events/details/saving-wild-places-mendocino-eco-artists-support-mendocino-land-trust-01-04-2014-78
END:VEVENT

END:VCALENDAR
