BEGIN:VCALENDAR
VERSION:2.0
PRODID:-//ChamberMaster//Event Calendar 2.0//EN
METHOD:PUBLISH
X-PUBLISHED-TTL:P3D
REFRESH-INTERVAL:P3D
CALSCALE:GREGORIAN
BEGIN:VEVENT
DTSTART:20150615T210000Z
DTEND:20150615T220000Z
X-MICROSOFT-CDO-ALLDAYEVENT:FALSE
SUMMARY:Saturdays Seal Program
DESCRIPTION:Join Naturalists and Rangers at MacKerricher State Park on Saturdays for a guided walk to where the seals are sunbathing\, and learn about the difference between a seal and a sea lion! All ages welcome.Â
X-ALT-DESC;FMTTYPE=text/html:<p>Join Naturalists and Rangers at MacKerricher State Park on Saturdays for a guided walk to where the seals are sunbathing\, and learn about the difference between a seal and a sea lion! All ages welcome.</p><p>Â </p>
LOCATION:MacKerricher State Park Cleone\, CA
UID:e.2883.648
SEQUENCE:3
DTSTAMP:20260422T082221Z
URL:https://mendocinocoast.com/events/details/saturdays-seal-program-06-15-2015-648
END:VEVENT

END:VCALENDAR
