BEGIN:VCALENDAR
VERSION:2.0
PRODID:-//ChamberMaster//Event Calendar 2.0//EN
METHOD:PUBLISH
X-PUBLISHED-TTL:P3D
REFRESH-INTERVAL:P3D
CALSCALE:GREGORIAN
BEGIN:VEVENT
DTSTART;VALUE=DATE:20141029
DTEND;VALUE=DATE:20141030
TRANSP:TRANSPARENT
X-MICROSOFT-CDO-ALLDAYEVENT:TRUE
SUMMARY:Salmon Film Festival and Salmon 5K Run/Walk
DESCRIPTION:November 8 & 9 Salmon Film Festival and Salmon 5K Run/Walk Enjoy a social mixer for attendees of the race on Sat. at 6 p.m. then\, from 7 - 9 p.m. there will be movies shown about salmon and the ocean ecology. On Sun. at 7:30 a.m. set up and registration for race. Race begins at 9 a.m. Portuguese Hall\, 822 Stewards Street\, Fort Bragg. 707.969.7490 www.salmonfilmfestival.org
X-ALT-DESC;FMTTYPE=text/html:<p>November 8 &amp\; 9 Salmon Film Festival and Salmon 5K Run/Walk Enjoy a social mixer for attendees of the race on Sat. at 6 p.m. then\, from 7 - 9 p.m. there will be movies shown about salmon and the ocean ecology. On Sun. at 7:30 a.m. set up and registration for race. Race begins at 9 a.m. Portuguese Hall\, 822 Stewards Street\, Fort Bragg. 707.969.7490 www.salmonfilmfestival.org</p>
LOCATION:Portuguese Hall Fort Bragg
UID:e.2883.365
SEQUENCE:3
DTSTAMP:20260422T215146Z
URL:https://mendocinocoast.com/events/details/salmon-film-festival-and-salmon-5k-run-walk-10-29-2014-365
END:VEVENT

END:VCALENDAR
