BEGIN:VCALENDAR
VERSION:2.0
PRODID:-//ChamberMaster//Event Calendar 2.0//EN
METHOD:PUBLISH
X-PUBLISHED-TTL:P3D
REFRESH-INTERVAL:P3D
CALSCALE:GREGORIAN
BEGIN:VEVENT
DTSTART:20140430T181500Z
DTEND:20140430T230000Z
X-MICROSOFT-CDO-ALLDAYEVENT:FALSE
SUMMARY:Rubber Ducky Race
DESCRIPTION:Mother's Day family event: Rubber Ducky Race to the ocean\, tri-tip or vegetarian barbecue\, baked goods\, quilt raffle\, mellow live music. Bring your own manufactured or handmade duck or buy one at the event. Enter the handmade/decorated Duck Beauty Contest. Annual fundraiser for Westport Village Society.
X-ALT-DESC;FMTTYPE=text/html:<p>Mother's Day family event: Rubber Ducky Race to the ocean\, tri-tip or vegetarian barbecue\, baked goods\, quilt raffle\, mellow live music. Bring your own manufactured or handmade duck or buy one at the event. Enter the handmade/decorated Duck Beauty Contest. Annual fundraiser for Westport Village Society.</p>
LOCATION:Westport Beach Campground
UID:e.2883.242
SEQUENCE:3
DTSTAMP:20260423T113455Z
URL:https://mendocinocoast.com/events/details/rubber-ducky-race-04-30-2014-242
END:VEVENT

END:VCALENDAR
