BEGIN:VCALENDAR
VERSION:2.0
PRODID:-//ChamberMaster//Event Calendar 2.0//EN
METHOD:PUBLISH
X-PUBLISHED-TTL:P3D
REFRESH-INTERVAL:P3D
CALSCALE:GREGORIAN
BEGIN:VEVENT
DTSTART:20260501T013000Z
DTEND:20260501T050000Z
X-MICROSOFT-CDO-ALLDAYEVENT:FALSE
SUMMARY:Roaring 20's Party on the Skunk Train to Glen Blair Bar
DESCRIPTION:Celebrate as the Fort Bragg Blues Festival kicks off with a bang at our Roaring Twenties Theme Night on Thursday\, April 30th! Embrace the exuberance of Classical Blues and the Jazz Age of the 1920's\, the very decade when the Blues exploded from regional roots into a national sensation. Your ticket includes a magical ride on the World-Famous Skunk Train to their outdoor pavilion under the redwoods at Glen Blair Bar. In this magical setting you'll be treated to a glass of champagne as you step off the train and you'll dance the night away to the nostalgic sounds of Stella & The Starlights! We'll also have a photo backdrop with props and a professional photographer so dress to impress in your Vintage Best! No Host Bar. Bring your own evening picnic!
X-ALT-DESC;FMTTYPE=text/html:Celebrate as the Fort Bragg Blues Festival kicks off with a bang at our Roaring Twenties Theme Night on Thursday\, April 30th! Embrace the exuberance of Classical Blues and the Jazz Age of the 1920&rsquo\;s\, the very decade when the Blues exploded from regional roots into a national sensation. Your ticket includes a magical ride on the World-Famous Skunk Train to their outdoor pavilion under the redwoods at Glen Blair Bar. In this magical setting you&#39\;ll be treated to a glass of champagne as you step off the train and you&#39\;ll dance the night away to the nostalgic sounds of Stella &amp\; The Starlights! We&#39\;ll also have a photo backdrop with props and a professional photographer so dress to impress in your Vintage Best! No Host Bar. Bring your own evening picnic!
LOCATION:Skunk Train Depot
UID:e.2883.32107
SEQUENCE:3
DTSTAMP:20260422T020507Z
URL:https://mendocinocoast.com/events/details/roaring-20-s-party-on-the-skunk-train-to-glen-blair-bar-32107
END:VEVENT

END:VCALENDAR
