BEGIN:VCALENDAR
VERSION:2.0
PRODID:-//ChamberMaster//Event Calendar 2.0//EN
METHOD:PUBLISH
X-PUBLISHED-TTL:P3D
REFRESH-INTERVAL:P3D
CALSCALE:GREGORIAN
BEGIN:VEVENT
DTSTART:20150202T040000Z
DTEND:20150202T070000Z
X-MICROSOFT-CDO-ALLDAYEVENT:FALSE
SUMMARY:Ridge Gorman @ Headlands Coffeehouse
DESCRIPTION:February 4 @ 7:00 pm -Â 10:00 pmHeadlands Coffeehouse\,Â 120 Laurel Street\, Fort Bragg\, CA 95437 United States
X-ALT-DESC;FMTTYPE=text/html:<p><div><span>February 4 @ 7:00 pm</span> -Â <span>10:00 pm</span></div><div><span><a href="http://www.kozt.com/venue/headlands-coffeehouse/" target="_blank">Headlands Coffeehouse</a></span>\,Â <address><span><span>120 Laurel Street</span><span>\,</span> <span>Fort Bragg</span><span>\,</span> <abbr title="California">CA</abbr> <span>95437</span> <span>United States</span></span></address></div></p>
LOCATION:Headlands Coffeehouse Fort Bragg CA
UID:e.2883.491
SEQUENCE:3
DTSTAMP:20260422T150359Z
URL:https://mendocinocoast.com/events/details/ridge-gorman-headlands-coffeehouse-02-01-2015-491
END:VEVENT

END:VCALENDAR
