BEGIN:VCALENDAR
VERSION:2.0
PRODID:-//ChamberMaster//Event Calendar 2.0//EN
METHOD:PUBLISH
X-PUBLISHED-TTL:P3D
REFRESH-INTERVAL:P3D
CALSCALE:GREGORIAN
BEGIN:VEVENT
DTSTART:20150409T190000Z
DTEND:20150410T000000Z
X-MICROSOFT-CDO-ALLDAYEVENT:FALSE
SUMMARY:Rhododendron Show and Plant Sale
DESCRIPTION:Join us for our annual Rhododendron Show and Plant Sale!May 2 and 3\, 2015\, at 12 pm.At the Mendocino Coast Botanical Gardens\, in the Vegetable Garden.More info atÂ http://www.noyochapterars.com/
X-ALT-DESC;FMTTYPE=text/html:<p>Join us for our annual Rhododendron Show and Plant Sale!</p><p>May 2 and 3\, 2015\, at 12 pm.</p><p>At the Mendocino Coast Botanical Gardens\, in the Vegetable Garden.</p><p>More info atÂ <a href="http://www.noyochapterars.com/" target="_blank">http://www.noyochapterars.com/</a></p>
LOCATION:Mendocino Coast Botanical Gardens Fort Bragg
UID:e.2883.593
SEQUENCE:3
DTSTAMP:20260422T115342Z
URL:https://mendocinocoast.com/events/details/rhododendron-show-and-plant-sale-04-09-2015-593
END:VEVENT

END:VCALENDAR
