BEGIN:VCALENDAR
VERSION:2.0
PRODID:-//ChamberMaster//Event Calendar 2.0//EN
METHOD:PUBLISH
X-PUBLISHED-TTL:P3D
REFRESH-INTERVAL:P3D
CALSCALE:GREGORIAN
BEGIN:VEVENT
DTSTART:20150217T180000Z
DTEND:20150218T010000Z
X-MICROSOFT-CDO-ALLDAYEVENT:FALSE
SUMMARY:Redwood Empire Spring Fair in Ukiah
DESCRIPTION:Bring the family for a day of fun at the Redwood Empire Fair\, with lots of down-home activities\, rides\, and delicious food.More information: www.redwoodempirefair.com
X-ALT-DESC;FMTTYPE=text/html:<p>Bring the family for a day of fun at the Redwood Empire Fair\, with lots of down-home activities\, rides\, and delicious food.</p><p>More information:<a href="http://www.redwoodempirefair.com" target="_blank"> www.redwoodempirefair.com</a></p>
LOCATION:Redwood Empire Fair Ukiah
UID:e.2883.522
SEQUENCE:3
DTSTAMP:20260422T151054Z
URL:https://mendocinocoast.com/events/details/redwood-empire-spring-fair-in-ukiah-02-17-2015-522
END:VEVENT

END:VCALENDAR
