BEGIN:VCALENDAR
VERSION:2.0
PRODID:-//ChamberMaster//Event Calendar 2.0//EN
METHOD:PUBLISH
X-PUBLISHED-TTL:P3D
REFRESH-INTERVAL:P3D
CALSCALE:GREGORIAN
BEGIN:VEVENT
DTSTART:20160302T050000Z
DTEND:20160302T062500Z
X-MICROSOFT-CDO-ALLDAYEVENT:FALSE
SUMMARY:QUILLS
DESCRIPTION:The Mendocino Theatre Company opens its 2016 season with Doug Wright's Obie Award-winning dark comedy\, QUILLS. Â A fictionalized account of the last days of the notorious Marquis de Sade\, QUILLS explores deliciously meatyÂ topics with exuberance\, glee\, and hilarious irreverence.  â€œâ€¦Doug Wrightâ€™s raffish new comedy\, part theater of the ridiculous\, part comedy of manners and part Grand Guignol\, successfully blends intentional archness\, grotesque exaggeration and bold humor to create a theatrical experience of real wit.â€ â€”NY Times
X-ALT-DESC;FMTTYPE=text/html:<h2><span style="font-family:arial\, &quot\;helvetica neue&quot\;\, helvetica\, sans-serif\;">The Mendocino Theatre Company opens its 2016 season with Doug Wright's Obie Award-winning dark comedy\, QUILLS. Â A fictionalized account of the last days of the notorious Marquis de Sade\, QUILLS explores deliciously meatyÂ topics with exuberance\, glee\, and hilarious irreverence. </span></h2><p><span style="font-family:arial\, &quot\;helvetica neue&quot\;\, helvetica\, sans-serif\;"><em> </em><strong><em>â€œâ€¦Doug Wrightâ€™s raffish new comedy\, part theater of the ridiculous\, part comedy of manners and part Grand Guignol\, successfully blends intentional archness\, grotesque exaggeration and bold humor to create a theatrical experience of real wit.â€ â€”NY Times</em></strong><br /></span></p>
LOCATION:Mendocino Theatre Company
UID:e.2883.866
SEQUENCE:3
DTSTAMP:20260421T191756Z
URL:https://mendocinocoast.com/events/details/quills-03-01-2016-866
END:VEVENT

END:VCALENDAR
