BEGIN:VCALENDAR
VERSION:2.0
PRODID:-//ChamberMaster//Event Calendar 2.0//EN
METHOD:PUBLISH
X-PUBLISHED-TTL:P3D
REFRESH-INTERVAL:P3D
CALSCALE:GREGORIAN
BEGIN:VEVENT
DTSTART:20140422T030000Z
DTEND:20140422T050100Z
X-MICROSOFT-CDO-ALLDAYEVENT:FALSE
SUMMARY:Queen of the Delta Blues at the Mendocino Music Festivall
DESCRIPTION:Irma Thomas: Queen of the Delta BluesFriday\, July 25\, 2014\, 8:00 PMTent Concert HallThis is a rare opportunity to see and hear a legend of our own time\, inviting you to share a trip with her into the jazz scene of New Orleans. â€œShe remains one of Americaâ€™s most distinctive and classic singers\, a treasure from the Golden Age of soul music\, who remains as completing and powerful as everâ€¦â€ Rounder Records
X-ALT-DESC;FMTTYPE=text/html:Irma Thomas: Queen of the Delta BluesFriday\, July 25\, 2014\, 8:00 PMTent Concert HallThis is a rare opportunity to see and hear a legend of our own time\, inviting you to share a trip with her into the jazz scene of New Orleans. â€œShe remains one of Americaâ€™s most distinctive and classic singers\, a treasure from the Golden Age of soul music\, who remains as completing and powerful as everâ€¦â€ Rounder Records
LOCATION:16\,000 square foot Tent Performance Hall on the Mendocino Headlands State Park
UID:e.2883.235
SEQUENCE:3
DTSTAMP:20260423T100725Z
URL:https://mendocinocoast.com/events/details/queen-of-the-delta-blues-at-the-mendocino-music-festivall-04-21-2014-235
END:VEVENT

END:VCALENDAR
