BEGIN:VCALENDAR
VERSION:2.0
PRODID:-//ChamberMaster//Event Calendar 2.0//EN
METHOD:PUBLISH
X-PUBLISHED-TTL:P3D
REFRESH-INTERVAL:P3D
CALSCALE:GREGORIAN
BEGIN:VEVENT
DTSTART;VALUE=DATE:20160412
DTEND;VALUE=DATE:20160413
TRANSP:TRANSPARENT
X-MICROSOFT-CDO-ALLDAYEVENT:TRUE
SUMMARY:Pura Vida\, Salsa Picante
DESCRIPTION:PURA VIDA\, Mendocino Countyâ€™s original Latin inspired dance band\, brings eclectic Latin rhythms to Mendocino's Hill House Inn on Saturday\, May 28. In addition to their signature Cuban son and salsa\, the band plays Cumbia\, Merengue\, Flamenco\, and Brazilian Bossa/Samba rhythms with a sprinkling of Rock\, JazzÂ & Funk. Enjoy the bistro/bar atmosphere or work out on the dance floor toÂ some salsa picante! \n\nDoors open at 6PM for casual diningÂ and full bar. Live music starts at 7:30pm. $12 at the door. !PURA VIDA / PURE LIFE!
X-ALT-DESC;FMTTYPE=text/html:<p><span style="font-size:small\;">PURA VIDA\, Mendocino Countyâ€™s original Latin inspired dance band\, brings eclectic Latin rhythms to Mendocino's Hill House Inn on Saturday\, May 28. In addition to their signature Cuban son and salsa\, the band plays Cumbia\, Merengue\, Flamenco\, and Brazilian Bossa/Samba rhythms with a sprinkling of Rock\, JazzÂ &amp\; Funk. Enjoy the bistro/bar atmosphere or work out on the dance floor toÂ some salsa picante! </span><br /><br /><span style="font-size:small\;">Doors open at 6PM for casual diningÂ and full bar. Live music starts at 7:30pm. $12 at the door. !PURA VIDA / PURE LIFE!</span></p>
LOCATION:Hill House of Mendocino
UID:e.2883.911
SEQUENCE:3
DTSTAMP:20260421T154059Z
URL:https://mendocinocoast.com/events/details/pura-vida-salsa-picante-04-12-2016-911
END:VEVENT

END:VCALENDAR
