BEGIN:VCALENDAR
VERSION:2.0
PRODID:-//ChamberMaster//Event Calendar 2.0//EN
METHOD:PUBLISH
X-PUBLISHED-TTL:P3D
REFRESH-INTERVAL:P3D
CALSCALE:GREGORIAN
BEGIN:VEVENT
DTSTART:20151216T180500Z
DTEND:20151217T000900Z
X-MICROSOFT-CDO-ALLDAYEVENT:FALSE
SUMMARY:Publishing Boot Camp
DESCRIPTION:Learn the inside story of how to publish your work. Whether you've got a novel\, nonfiction book\, collection of poetry\, or a mish-mash\, publishing insiders will teach you the tools needed to publish your work\, with or without an agent. In today's exciting publishing world\, there are many alternatives! Meet award-winning author/publisher/editor Shirin Yim Bridges\, founder of Goosebottom Books\, who teaches widely including Stanford\, SF State\, and internationally.\nThis one-day Publishing Boot Camp intensive is open to writers at all levels\, whether or not you attend the 3-day Writers Conference. Advance reservation is required. info@mcwc.org or www.mcwc.org to sign up.
X-ALT-DESC;FMTTYPE=text/html:<p>Learn the inside story of how to publish your work. Whether you've got a novel\, nonfiction book\, collection of poetry\, or a mish-mash\, publishing insiders will teach you the tools needed to publish your work\, with or without an agent. In today's exciting publishing world\, there are many alternatives! Meet award-winning author/publisher/editor Shirin Yim Bridges\, founder of Goosebottom Books\, who teaches widely including Stanford\, SF State\, and internationally.</p><p><br />This one-day Publishing Boot Camp intensive is open to writers at all levels\, whether or not you attend the 3-day Writers Conference. Advance reservation is required. info@mcwc.org or www.mcwc.org to sign up.</p>
LOCATION:Mendocino College - Coastal Campus in Fort Bragg Fort Bragg\, California
UID:e.2883.815
SEQUENCE:3
DTSTAMP:20260421T223137Z
URL:https://mendocinocoast.com/events/details/publishing-boot-camp-12-16-2015-815
END:VEVENT

END:VCALENDAR
